BEGIN:VCALENDAR
VERSION:2.0
PRODID:-//ChamberMaster//Event Calendar 2.0//EN
METHOD:PUBLISH
X-PUBLISHED-TTL:P3D
REFRESH-INTERVAL:P3D
CALSCALE:GREGORIAN
BEGIN:VEVENT
DTSTART:20121115T220000Z
DTEND:20121116T000000Z
X-MICROSOFT-CDO-ALLDAYEVENT:FALSE
SUMMARY:Business After Hours: Mardi Gras Casino and Resort 2012
DESCRIPTION:
X-ALT-DESC;FMTTYPE=text/html:
LOCATION:Mardi Gras Casino and Resort
UID:e.1499.461
SEQUENCE:3
DTSTAMP:20260422T175006Z
URL:https://business.charlestonareaalliance.org/events/details/business-after-hours-mardi-gras-casino-and-resort-2012-11-15-2012-461
END:VEVENT

END:VCALENDAR
