BEGIN:VCALENDAR
VERSION:2.0
PRODID:-//ChamberMaster//Event Calendar 2.0//EN
METHOD:PUBLISH
X-PUBLISHED-TTL:P3D
REFRESH-INTERVAL:P3D
CALSCALE:GREGORIAN
BEGIN:VEVENT
DTSTART:20130328T210000Z
DTEND:20130329T000000Z
X-MICROSOFT-CDO-ALLDAYEVENT:FALSE
SUMMARY:Business After Hours - March 2013
DESCRIPTION:Join the Charleston Marriott and Charleston Area Alliance for the Charleston Business Showcase Business After Hours event this month.\n\n	\n\n	Don't miss your opportunity to sample the Marriott's catering menu and tour the extensive Business Expo on the Marriott's Pavilion. This event boasts exciting door prize drawings by the businesses participating in the expo.\n\n	Interested in booking an EXPO table? Click here.\n\n	\n\n	 BAH events are fantastic opportunities to network and meet the region's leaders in a relaxed setting\, all while enjoying food\, drinks and entertainment.\n\n	The cost is $15 for Alliance members and $25 for future members who register online before the day of the scheduled event. Prices the day of the event increase to $25 for Alliance members and $35 for future members.\n\n	\n\n	If you work with an Alliance-member business and need assistance locating your password to access exclusive member discount\, email Leigh Anne Strickland.Wo  \n\n	The Alliance cannot issue cancelation refunds within 48 hours of event.
X-ALT-DESC;FMTTYPE=text/html:<p style="color: rgb(0\, 0\, 0)\; font-family: arial\, &quot\;trebuchet ms&quot\;\, monospace\, sans_serif\; font-size: 16px\;">\n	Join the Charleston Marriott and Charleston Area Alliance for the Charleston Business Showcase Business After Hours event&nbsp\;this month.</p>\n<p style="color: rgb(0\, 0\, 0)\; font-family: arial\, &quot\;trebuchet ms&quot\;\, monospace\, sans_serif\; font-size: 16px\;">\n	<br />\n	Don&#39\;t miss your opportunity to sample the Marriott&#39\;s catering menu and tour the extensive Business Expo on the Marriott&#39\;s Pavilion. This event boasts exciting door prize drawings by the businesses participating in the expo.</p>\n<p style="color: rgb(0\, 0\, 0)\; font-family: arial\, &quot\;trebuchet ms&quot\;\, monospace\, sans_serif\; font-size: 16px\;">\n	Interested in booking an EXPO table? <a href="http://charlestonareaalliance.chambermaster.com/events/details/charleston-business-showcase-expo-2013-549">Click&nbsp\;here</a>.<br />\n	<br />\n	&nbsp\;BAH events are fantastic opportunities to network and meet the region&rsquo\;s leaders in a relaxed setting\, all while enjoying food\, drinks and entertainment.</p>\n<p style="color: rgb(0\, 0\, 0)\; font-family: arial\, &quot\;trebuchet ms&quot\;\, monospace\, sans_serif\; font-size: 16px\;">\n	The cost is $15 for Alliance members and $25 for future members who register&nbsp\;online before the day of the scheduled event. Prices the day of the event increase to $25 for Alliance members and $35 for future members.</p>\n<p style="color: rgb(0\, 0\, 0)\; font-family: arial\, &quot\;trebuchet ms&quot\;\, monospace\, sans_serif\; font-size: 16px\;">\n	<br />\n	If you work with an Alliance-member&nbsp\;business and need assistance locating your <span style="color: rgb(178\, 34\, 34)\;">password </span>to access exclusive member discount\, email <a href="mailto:LStrickland@charlestonareaalliance.org?subject=Password%20Inquiry">Leigh Anne </a><a href="mailto:LStrickland@charlestonareaalliance.org?subject=Password%20Inquiry">Strickland</a>.<span _fck_bookmark="1" style="display: none\;">Wo</span><span _fck_bookmark="1" style="display: none\;">&nbsp\;</span><span _fck_bookmark="1" style="display: none\;">&nbsp\;</span></p>\n<p style="color: rgb(0\, 0\, 0)\; font-family: arial\, &quot\;trebuchet ms&quot\;\, monospace\, sans_serif\; font-size: 16px\;">\n	<em><span style="color: rgb(0\, 0\, 0)\;"><span style="font-size: 11px\;">The Alliance cannot issue cancelation refunds within 48 hours of event.&nbsp\;</span></span></em><span style="font-size: 11px\;"><span _fck_bookmark="1" style="display: none\;">&nbsp\;</span></span></p>\n<span _fck_bookmark="1" style="display: none\;">&nbsp\;</span>
LOCATION:Charleston Marriott Town Center 200 Lee Street East Charleston\, WV 25301
UID:e.1499.544
SEQUENCE:3
DTSTAMP:20260422T125355Z
URL:https://business.charlestonareaalliance.org/events/details/business-after-hours-march-2013-03-28-2013-544
END:VEVENT

END:VCALENDAR
