BEGIN:VCALENDAR
VERSION:2.0
PRODID:-//ChamberMaster//Event Calendar 2.0//EN
METHOD:PUBLISH
X-PUBLISHED-TTL:P3D
REFRESH-INTERVAL:P3D
CALSCALE:GREGORIAN
BEGIN:VEVENT
DTSTART:20160922T210000Z
DTEND:20160922T230000Z
X-MICROSOFT-CDO-ALLDAYEVENT:FALSE
SUMMARY:Business After Hours - Kay Casto & Chaney/National Travel
DESCRIPTION:Kay Casto & Chaney PLLC and National Travel Service are teaming up to host the Charleston Area Alliance Business After Hours on Thursday\, September 22.  The 'Party on the Plaza' will begin at 5:00 p.m.\, rain or shine\, on the Chase Plaza (the outdoor patio of Chase Tower) located at 707 Virginia Street\, East.  Entertainment will be provided by the Ryan Kennedy Trio and Sam's Uptown Cafe will cater the event.\n\n\n\nAttendees may enter through the Summers Street gate\, which is located on the same side as the entrance to the Chase Tower parking garage.\n\n\n\nKay Casto & Chaney is a full-service law firm with offices in Charleston\, Morgantown and Fayetteville\, West Virginia that has been providing high quality legal services to businesses and individuals located throughout the region for more than 90 years. \n\n\n\nNational Travel Service is a full-service travel management company with 40 years of experience\, employing 70 employees at three locations.  The corporate headquarters in Charleston\, West Virginia has been ranked by Business Travel News in the top 25 among U.S. travels agencies.\n\n\n\nThe early registration rate is $15 for Alliance members and $25 for future members. Early registration rates expire at 5 p.m. Wednesday\, September 21\, when prices increase to $25 for Alliance members and $35 for future members.\n\n\n\nBusiness After Hours is the perfect way to start wrapping up a busy work week. The events\, hosted by Charleston Area Alliance members\, offer social and networking opportunities in a casual atmosphere.\n\n\n\nInvoicing available for groups of 10 or more\; no cancelation refunds within 48 hours of the event.
X-ALT-DESC;FMTTYPE=text/html:<span style="font-size: 10pt\;"><span style="font-family: arial\,sans-serif\;"><span style="color: rgb(51\, 51\, 51)\;">Kay Casto &amp\; Chaney PLLC and National Travel Service are teaming up to host the Charleston Area Alliance Business After Hours on Thursday\, September 22.&nbsp\; The &#39\;Party on the Plaza&#39\; will begin at 5:00 p.m.\, rain or shine\,&nbsp\;on the Chase Plaza (the outdoor patio of Chase Tower) located at 707 Virginia Street\, East.&nbsp\;&nbsp\;Entertainment will be provided by&nbsp\;the Ryan Kennedy Trio and Sam&#39\;s Uptown Cafe will cater the event.<br />\n<br />\nAttendees may enter through the Summers Street gate\, which is located on the same side as the entrance to the Chase Tower parking garage.<br />\n<br />\nKay Casto &amp\; Chaney is a full-service law firm with offices in Charleston\, Morgantown and Fayetteville\, West Virginia that has been providing high quality legal services to businesses and individuals located throughout the region for more than 90 years.&nbsp\;<br />\n<br />\nNational Travel Service is a full-service travel management company with 40 years of experience\, employing 70 employees at three locations.&nbsp\; The corporate headquarters in Charleston\, West Virginia has been ranked by Business Travel News </span></span></span><span style="font-size: 10pt\;"><span style="font-family: arial\,sans-serif\;"><span style="color: rgb(51\, 51\, 51)\;">in the top 25 among U.S. travels agencies.<br />\n<br />\nThe early registration rate is $15 for Alliance members and $25 for future members. Early registration rates expire at 5 p.m. Wednesday\, September 21\, when prices increase to $25 for Alliance members and $35 for future members.<br />\n<br />\nBusiness After Hours is the perfect way to start wrapping up a busy work week. The events\, hosted by Charleston Area Alliance members\, offer social and networking opportunities in a casual atmosphere.<br />\n<br />\nInvoicing&nbsp\;available&nbsp\;for groups of 10 or more\;&nbsp\;no cancelation refunds within 48 hours of the&nbsp\;event. </span></span></span><br />\n&nbsp\;
LOCATION:Chase Plaza 707 Virginia Street\, East Charleston\, WV 25301
UID:e.1499.1871
SEQUENCE:3
DTSTAMP:20260420T064346Z
URL:https://business.charlestonareaalliance.org/events/details/business-after-hours-kay-casto-chaney-national-travel-1871
END:VEVENT

END:VCALENDAR
