BEGIN:VCALENDAR
VERSION:2.0
PRODID:-//ChamberMaster//Event Calendar 2.0//EN
METHOD:PUBLISH
X-PUBLISHED-TTL:P3D
REFRESH-INTERVAL:P3D
CALSCALE:GREGORIAN
BEGIN:VEVENT
DTSTART:20160616T210000Z
DTEND:20160616T230000Z
X-MICROSOFT-CDO-ALLDAYEVENT:FALSE
SUMMARY:Business After Hours - June 2016
DESCRIPTION:Join the Charleston Area Alliance and West Virginia Power from 5-7:00 p.m. Thursday\, June 16 for Business After Hours at Appalachian Power Park. Included with Business After Hours registration is a complimentary general admission ticket to the 7:05 p.m. West Virginia Power game against the Charleston\, SC River Dogs. \n\n\n\nThe 3rd base gates will open at 5:00 p.m. exclusively for Business After Hours attendees to enjoy food and beverages in the Bud Light Picnic Garden prior to the game.\n\n\n\nThis special night will feature the opening ceremonies of FestivALL\, with a special tribute to former FestivALL Executive Director Larry Groce on the 3rd base stage at 6:30 p.m.  The stadium will be filled with various performers such as stilt walkers\, jugglers and much more during the evening.  Plan to stay and enjoy a special post-game concert featuring Ona and Tyler Childers.\n\n\n\nRegistration is $15 for Alliance members and $25 for future members before 5 p.m. June 15. Prices increase to $25 for Alliance members and $35 for future members after 5 p.m. June 15.  Invoicing available for groups of 10 or more\; no refunds issued within 48 hours of the scheduled event.
X-ALT-DESC;FMTTYPE=text/html:<p>Join the Charleston Area Alliance and West Virginia Power from 5-7:00 p.m. Thursday\, June 16&nbsp\;for Business After Hours at Appalachian Power Park.&nbsp\;Included with Business After Hours registration is a complimentary general admission ticket to the 7:05 p.m. West Virginia Power game against the Charleston\, SC River Dogs.&nbsp\;<br />\n<br />\nThe 3rd base gates will open at 5:00 p.m. exclusively for Business After Hours attendees to enjoy food and beverages in the Bud Light Picnic Garden prior to the game.<br />\n<br />\nThis special night&nbsp\;will feature the opening ceremonies of FestivALL\, with a special tribute to former FestivALL Executive Director Larry Groce on the 3rd base stage at 6:30 p.m.&nbsp\; The stadium will be filled with various performers such as stilt walkers\, jugglers and much more during the evening.&nbsp\;&nbsp\;Plan to stay and enjoy a&nbsp\;special post-game concert featuring Ona&nbsp\;and Tyler Childers.<br />\n<br />\nRegistration is $15 for Alliance members and $25 for future members before 5 p.m. June 15.&nbsp\;Prices&nbsp\;increase to $25 for Alliance members and $35 for future members after 5 p.m. June 15.&nbsp\; Invoicing available&nbsp\;for groups of 10 or more\; no refunds issued within 48 hours of the scheduled event.</p>\n
LOCATION:Appalachian Power Park 601 Morris Street Charleston\, WV 25301 Business After Hours attendees should enter through the 3rd base gates at the corner of Brooks and Smith Streets\, next to the Interstate ramp.
UID:e.1499.1861
SEQUENCE:3
DTSTAMP:20260420T110111Z
URL:https://business.charlestonareaalliance.org/events/details/business-after-hours-june-2016-06-16-2016-1861
END:VEVENT

END:VCALENDAR
