BEGIN:VCALENDAR
VERSION:2.0
PRODID:-//ChamberMaster//Event Calendar 2.0//EN
METHOD:PUBLISH
X-PUBLISHED-TTL:P3D
REFRESH-INTERVAL:P3D
CALSCALE:GREGORIAN
BEGIN:VEVENT
DTSTART:20150611T210000Z
DTEND:20150611T230000Z
X-MICROSOFT-CDO-ALLDAYEVENT:FALSE
SUMMARY:Business After Hours - June 2015
DESCRIPTION:Join the Charleston Area Alliance from 5 - 7 p.m. Thursday\, June 11 for Business After Hours at Appalachian Power Park. Included with Business After Hours registration is a complimentary general admission ticket to the 7:05 p.m. West Virginia Power game against the Savannah Sand Gnats. \n\n\n\nThe pre-game event will feature food and beverages. Business After Hours is the perfect way to start wrapping up a busy work week. The event offers social and networking opportunities in a casual atmosphere. The get-togethers are hosted by Charleston Area Alliance members. \n\n\n\nThe early registration rate is $15 for Alliance members and $25 for future members. Early registration rates expire at 5 p.m Wednesday\, June 10\, and then prices rise to $25 for Alliance members and $35 for future members.\n\n\n\nThe Alliance is only able to invoice for groups of 10 or more. We cannot issue cancellation refunds within 48 hours of the scheduled event.
X-ALT-DESC;FMTTYPE=text/html:<p>Join the Charleston Area Alliance from 5 - 7 p.m. Thursday\, June 11&nbsp\;for Business After Hours at Appalachian Power Park.&nbsp\;Included with Business After Hours registration is a complimentary general admission ticket to the 7:05 p.m. West Virginia Power game against the Savannah Sand Gnats.&nbsp\;<br />\n<br />\nThe pre-game event will feature food and beverages.&nbsp\;Business After Hours is the perfect way to start wrapping up a busy work week. The event offers social and networking opportunities in a casual atmosphere. The&nbsp\;get-togethers&nbsp\;are hosted by Charleston Area Alliance members.&nbsp\;<br />\n<br />\nThe early registration rate is $15 for Alliance members and $25 for future members. Early registration rates expire at 5 p.m Wednesday\, June 10\, and then prices rise to $25 for Alliance members and $35 for future members.<br />\n<br />\nThe Alliance is only able to invoice for groups of 10 or more. We&nbsp\;cannot issue cancellation refunds within 48 hours of the scheduled event.</p>\n
LOCATION:Appalachian Power Park 601 Morris Street Charleston\, WV 25301 Business After Hours attendees should enter at the left field gate at the corner of Brooks and Smith Streets\, next to the Interstate ramp.
UID:e.1499.788
SEQUENCE:3
DTSTAMP:20260421T030554Z
URL:https://business.charlestonareaalliance.org/events/details/business-after-hours-june-2015-06-11-2015-788
END:VEVENT

END:VCALENDAR
