BEGIN:VCALENDAR
VERSION:2.0
PRODID:-//ChamberMaster//Event Calendar 2.0//EN
METHOD:PUBLISH
X-PUBLISHED-TTL:P3D
REFRESH-INTERVAL:P3D
CALSCALE:GREGORIAN
BEGIN:VEVENT
DTSTART:20130613T210000Z
DTEND:20130613T230000Z
X-MICROSOFT-CDO-ALLDAYEVENT:FALSE
SUMMARY:Business After Hours - June 2013
DESCRIPTION:Join Summit Conference Center and the Charleston Area Alliance during West Virginia's 150th Birthday and FestivALL celebrations for Business After Hours. Open to the public\, Business After Hours events are great networking opportunities for friends and colleagues.\n\n\n\nIf you work with an Alliance-member business and need assistance locating your password to access exclusive discounts\, email Leigh Anne Strickland\, Director Member Programs and Services.
X-ALT-DESC;FMTTYPE=text/html:Join Summit Conference Center and the Charleston Area Alliance during West Virginia&#39\;s&nbsp\;150th Birthday and FestivALL&nbsp\;celebrations for Business After Hours. Open to the public\, Business After Hours events are great networking opportunities for friends and colleagues.<br />\n<br />\nIf you work with an Alliance-member business and need assistance locating your <span style="color:#b22222\;">password</span> to access exclusive discounts\, email <a href="mailto:LStrickland@charlestonareaalliance.org?subject=Password%20Inquiry">Leigh Anne Strickland</a>\, Director Member Programs and Services.
LOCATION:Summit Conference Center 129 Summers Street Charleston\, WV 25301
UID:e.1499.636
SEQUENCE:3
DTSTAMP:20260422T085406Z
URL:https://business.charlestonareaalliance.org/events/details/business-after-hours-june-2013-06-13-2013-636
END:VEVENT

END:VCALENDAR
