BEGIN:VCALENDAR
VERSION:2.0
PRODID:-//ChamberMaster//Event Calendar 2.0//EN
METHOD:PUBLISH
X-PUBLISHED-TTL:P3D
REFRESH-INTERVAL:P3D
CALSCALE:GREGORIAN
BEGIN:VEVENT
DTSTART:20160714T210000Z
DTEND:20160714T230000Z
X-MICROSOFT-CDO-ALLDAYEVENT:FALSE
SUMMARY:Business After Hours - July 2016
DESCRIPTION:Join the Charleston Area Alliance for Business After Hours on July 14 from 5-7 p.m.\, hosted by Smith Company Motor Cars. As West Virginia's only premium dealership\, Smith Company Motor Cars prides themselves on maintaining great client relationships while offering the best selection and outstanding service.  \n\nIn an effort to support those affected by the flooding in West Virginia\, Smith Company Motor Cars and Johnstone & Gabhart\, LLP are teaming up to provide diapers to families during this difficult time through the mission of Diaper Drop Charities.  Smith Company Motor Cars and Johnstone & Gabhart will match the first 5\,000 diapers that are donated and will also match all diapers brought to the Business After Hours event.  Both companies will be drop-off sites for diapers during their regular business hours. \n\nBAH events are fantastic opportunities to network and meet the region's leaders in a relaxed setting. All ticket prices include complimentary food and beverages.\n\n\n\nThe cost is $15 for Alliance members and $25 for future members who register online by 5 p.m. July 13.  Prices increase to $25 for Alliance members and $35 for future members after 5 p.m. July 13.\nInvoicing available for groups of 10 or more\; no refunds issued within 48 hours of the scheduled event.
X-ALT-DESC;FMTTYPE=text/html:<p><span style="font-size: 12px\;">Join the <span style="font-family: verdana\;">Charleston</span> Area Alliance for Business After Hours on July 14 from 5-7 p.m.\,&nbsp\;hosted by <strong>Smith Company Motor Cars</strong>. <span style="font-family: verdana\;"><font color="#000000">As West Virginia&rsquo\;s only premium dealership\,&nbsp\;Smith Company Motor Cars&nbsp\;prides themselves on maintaining great client relationships while offering the best selection and outstanding service.&nbsp\;</font></span>&nbsp\;</span></p>\n\n<p style="margin: 0in 0in 0pt\;"><span style="font-size: 12px\;"><span style="font-family: verdana\;"><font color="#000000">In an effort to support those affected by the flooding in West Virginia\, Smith Company Motor Cars and Johnstone &amp\; Gabhart\, LLP are teaming up to provide diapers to families during this difficult time through the mission of Diaper Drop Charities.&nbsp\; Smith Company Motor Cars and Johnstone &amp\; Gabhart&nbsp\;will match the first 5\,000 diapers that are donated&nbsp\;and will also match&nbsp\;all diapers brought to the Business After Hours event.&nbsp\; Both companies will be drop-off sites for diapers during their regular&nbsp\;business hours. </font></span></span></p>\n\n<p style="margin: 0in 0in 0pt\;"><span style="font-size: 12px\;"><span style="font-family: verdana\;">BAH events are fantastic opportunities to network and meet the region&#39\;s leaders in a relaxed setting.&nbsp\;All ticket prices include complimentary food and beverages.<br />\n<br />\nThe cost is $15 for Alliance members and $25 for future members who register online by 5 p.m. July 13.&nbsp\;&nbsp\;Prices increase&nbsp\;to $25 for Alliance members and $35 for future members after 5 p.m.&nbsp\;July 13.</span></span></p>\n<span style="font-family: verdana\;"><span style="font-size: 12px\;">Invoicing available for groups of 10 or more\; no refunds issued within 48 hours of the scheduled event.</span></span>
LOCATION:Smith Company Motor Cars 5 Dudley Farms Lane Charleston\, WV 25309
UID:e.1499.1862
SEQUENCE:3
DTSTAMP:20260420T105106Z
URL:https://business.charlestonareaalliance.org/events/details/business-after-hours-july-2016-07-14-2016-1862
END:VEVENT

END:VCALENDAR
