BEGIN:VCALENDAR
VERSION:2.0
PRODID:-//ChamberMaster//Event Calendar 2.0//EN
METHOD:PUBLISH
X-PUBLISHED-TTL:P3D
REFRESH-INTERVAL:P3D
CALSCALE:GREGORIAN
BEGIN:VEVENT
DTSTART:20150723T210000Z
DTEND:20150723T230000Z
X-MICROSOFT-CDO-ALLDAYEVENT:FALSE
SUMMARY:Business After Hours - July 2015
DESCRIPTION:Join the Charleston Area Alliance from 5 - 7 p.m. Thursday\, July 23 for Business After Hours at the newly renovated offices of Babst Calland\, located on the 10th floor of the BB&T building in downtown Charleston (300 Summers St.)  Free parking is available in the BB&T garage.\n\n\n\nBabst Calland opened its Charleston office in 2011\, initially serving clients in the growing natural gas market in West Virginia and the Appalachian Basin.  The firm has more than 30 attorneys admitted to practice in West Virginia who have been serving the natural gas\, coal and other industries for many years. Its new Charleston office is located at 300 Summers St.\, Suite 1000.  Babst Calland also has offices in Pittsburgh and State College\, Pa.\, as well as Canton\, Ohio and Sewell\, N.J.\n\n\n\nThe early registration rate is $15 for Alliance members and $25 for future members. Early registration rates expire at 5 p.m. Wednesday\, July 22\, when prices increase to $25 for Alliance members and $35 for future members.\n\n\n\nBusiness After Hours is the perfect way to start wrapping up a busy work week. The event offers social and networking opportunities in a casual atmosphere. The get-togethers are hosted by Charleston Area Alliance members. \n\n\n\nInvoicing is available only for groups of 10 or more. The Alliance cannot issue cancelation refunds within 48 hours of the scheduled event.
X-ALT-DESC;FMTTYPE=text/html:<span style="font-size: 10pt\;"><span style="font-family: arial\,sans-serif\;"><span style="color: rgb(51\, 51\, 51)\;">Join the Charleston Area Alliance from 5 - 7 p.m. Thursday\, July&nbsp\;23&nbsp\;for Business After Hours at the newly renovated offices of Babst Calland\,&nbsp\;located&nbsp\;on the 10th floor of the BB&amp\;T building in downtown Charleston&nbsp\;(300 Summers St.)&nbsp\; Free parking is available&nbsp\;in the BB&amp\;T garage.<br />\n<br />\nBabst Calland opened its Charleston office in 2011\, initially serving clients in the growing natural gas market in West Virginia and the Appalachian Basin.&nbsp\; The firm has more than 30 attorneys admitted to practice in West Virginia who have been serving the natural gas\, coal and other industries for many years. Its new Charleston office is located at 300 Summers St.\, Suite 1000.&nbsp\; Babst Calland also has offices in Pittsburgh and State College\, Pa.\, as well as Canton\, Ohio and Sewell\, N.J.<br />\n<br />\nThe early registration rate is $15 for Alliance members and $25 for future members. Early registration rates expire at 5 p.m. Wednesday\, July 22\, when prices increase to $25 for Alliance members and $35 for future members.<br />\n<br />\nBusiness After Hours is the perfect way to start wrapping up a busy work week. The event offers social and networking opportunities in a casual atmosphere. The&nbsp\;get-togethers&nbsp\;are hosted by Charleston Area Alliance members.&nbsp\;<br />\n<br />\nInvoicing is available only for groups of 10 or more. The Alliance&nbsp\;cannot issue cancelation refunds within 48 hours of the scheduled event. </span></span></span><br />\n&nbsp\;
LOCATION:BB&T Building\, Suite 1000 300 Summers St. Charleston\, WV 25301
UID:e.1499.795
SEQUENCE:3
DTSTAMP:20260421T015601Z
URL:https://business.charlestonareaalliance.org/events/details/business-after-hours-july-2015-07-23-2015-795
END:VEVENT

END:VCALENDAR
