BEGIN:VCALENDAR
VERSION:2.0
PRODID:-//ChamberMaster//Event Calendar 2.0//EN
METHOD:PUBLISH
X-PUBLISHED-TTL:P3D
REFRESH-INTERVAL:P3D
CALSCALE:GREGORIAN
BEGIN:VEVENT
DTSTART:20130131T220000Z
DTEND:20130201T000000Z
X-MICROSOFT-CDO-ALLDAYEVENT:FALSE
SUMMARY:Business After Hours - January 2013
DESCRIPTION:Join us for Business After Hours at the Clay Center for the Arts and Sciences. Hosted by National Travel Service\, vendors will be onsite to answer all your travel questions for 2013! West Virginia's largest travel expo will offer new and interesting ways to plan your next trip. Enjoy an opportunity to speak with vendors one-on-one regarding specific domestic or international destinations. Visit destination exhibits to sample your options while enjoying live music and refreshments at this first Business After Hours of the new year. National Travel is also conducting a silent auction with 100% of the winning bid to be awarded to Doctors Without Borders charitable organization. Don't miss this opportunity to connect with existing and new colleagues and contacts now that the busy Holiday season has come to an end.
X-ALT-DESC;FMTTYPE=text/html:Join us for Business After Hours at the Clay Center for the Arts and Sciences. Hosted by National Travel Service\, vendors will be onsite to answer all your travel questions for 2013! West Virginia&#39\;s largest travel expo will offer new and interesting ways to plan your next trip. Enjoy an opportunity to speak with vendors one-on-one regarding specific domestic or international destinations. Visit destination exhibits to sample your options while enjoying live music and refreshments at this first Business After Hours of the new year. National Travel is also conducting a silent auction with 100% of the winning bid to be awarded to Doctors Without Borders charitable organization. Don&#39\;t miss this opportunity to connect with existing and new colleagues and contacts now that the busy Holiday season has come to an end.&nbsp\;
LOCATION:The Clay Center 1 Clay Square Charleston\, WV 25301
UID:e.1499.518
SEQUENCE:3
DTSTAMP:20260422T153023Z
URL:https://business.charlestonareaalliance.org/events/details/business-after-hours-january-2013-01-31-2013-518
END:VEVENT

END:VCALENDAR
