BEGIN:VCALENDAR
VERSION:2.0
PRODID:-//ChamberMaster//Event Calendar 2.0//EN
METHOD:PUBLISH
X-PUBLISHED-TTL:P3D
REFRESH-INTERVAL:P3D
CALSCALE:GREGORIAN
BEGIN:VEVENT
DTSTART:20170914T210000Z
DTEND:20170914T230000Z
X-MICROSOFT-CDO-ALLDAYEVENT:FALSE
SUMMARY:Business After Hours - Holiday Inn & Suites 2017
DESCRIPTION:Ahoy Mateys! Join the Charleston Area Alliance for Business After Hours at the Holiday Inn and Suites Charleston West\, located at 400 2nd Ave. SW\, from 5-7 p.m.Thursday\, Sept. 14. The P-Arrr!-ty is pirate themed in honor of Talk Like a Pirate Day later in the week!\n\n\n\nNetwork with colleagues and connect with business and community leaders at this monthly Alliance event. The Holiday Inn & Suites features 150 guest rooms\, more than 12\,000 square feet of event and meeting space\, the Mosa Cafe & Grille and the Comedy Zone. The hotel is part of the Monarch Family of Hotels.\n\n\n\nRegistration is $15 for Alliance members and $25 for future members. Add $10 if registering less than 24 hours in advance. \n\n\n\nNo refunds are issued within 48 hours of the event. Invoicing is available for groups of 10 or more.
X-ALT-DESC;FMTTYPE=text/html:Ahoy Mateys! Join the Charleston Area Alliance for Business After Hours at the&nbsp\;Holiday Inn and Suites Charleston West\, located&nbsp\;at 400 2nd Ave. SW\, from 5-7 p.m.Thursday\, Sept. 14.&nbsp\;The P-Arrr!-ty is pirate themed in honor of Talk Like a Pirate Day later in the week!<br />\n<br />\nNetwork with colleagues and connect with business and community leaders at this monthly Alliance event. The Holiday Inn &amp\; Suites features 150 guest rooms\, more than 12\,000 square feet of event and meeting space\, the Mosa Cafe &amp\; Grille and the Comedy Zone.&nbsp\;The hotel is part of the Monarch Family of Hotels.<br />\n<br />\nRegistration is $15 for Alliance members and $25 for future members. Add $10 if registering less than 24 hours in advance.&nbsp\;<br />\n<br />\nNo refunds are issued within 48 hours of the event. Invoicing is available for groups of 10 or more.<br />\n&nbsp\;
LOCATION:Holiday Inn Hotel & Suites Charleston West 400 2nd Ave.\, SW South Charleston\, WV 25303
UID:e.1499.1896
SEQUENCE:3
DTSTAMP:20260419T152345Z
URL:https://business.charlestonareaalliance.org/events/details/business-after-hours-holiday-inn-suites-2017-1896
END:VEVENT

END:VCALENDAR
