BEGIN:VCALENDAR
VERSION:2.0
PRODID:-//ChamberMaster//Event Calendar 2.0//EN
METHOD:PUBLISH
X-PUBLISHED-TTL:P3D
REFRESH-INTERVAL:P3D
CALSCALE:GREGORIAN
BEGIN:VEVENT
DTSTART:20160825T210000Z
DTEND:20160825T230000Z
X-MICROSOFT-CDO-ALLDAYEVENT:FALSE
SUMMARY:Business After Hours - Hampton Inn Southridge 2016
DESCRIPTION:Join the Charleston Area Alliance and Monarch Family of Hotels on Thursday\, August 25 from 5 - 7 p.m. for Business After Hours and the Hampton Inn Southridge's Birthday Party.\n\n\n\nThe Hampton Inn Southridge has served visitors to the Charleston region for 20 years this August and we want to celebrate! Come check out the newly renovated hotel while networking with fellow area businesses and organizations. Free parking is available. \n\n\n\nThe early registration rate is $15 for Alliance members and $25 for future members. Early registration rates expire at 3 p.m. Thursday\, August 25\, when prices increase to $25 for Alliance members and $35 for future members.\n\n\n\nBusiness After Hours is the perfect way to start wrapping up a busy work week. The events\, hosted by Charleston Area Alliance members\, offer social and networking opportunities in a casual atmosphere.\n\n\n\nInvoicing available for groups of 10 or more\; no refunds issued within 48 hours of the scheduled event.
X-ALT-DESC;FMTTYPE=text/html:<span style="font-size: 10pt\;"><span style="font-family: arial\,sans-serif\;"><span style="color: rgb(51\, 51\, 51)\;">Join the Charleston Area Alliance and Monarch Family of Hotels&nbsp\;on Thursday\, August 25 from 5 - 7 p.m. for Business After Hours&nbsp\;and the Hampton Inn&nbsp\;Southridge&#39\;s Birthday Party.<br />\n<br />\nThe Hampton Inn Southridge has served visitors to the Charleston&nbsp\;region for 20 years this August and we want to celebrate!&nbsp\;Come check out the newly renovated hotel while networking with fellow area businesses and organizations.&nbsp\;Free parking is available.&nbsp\;<br />\n<br />\nThe early registration rate is $15 for Alliance members and $25 for future members. Early registration rates expire at&nbsp\;3 p.m. Thursday\, August 25\, when prices increase to $25 for Alliance members and $35 for future members.<br />\n<br />\nBusiness After Hours is the perfect way to start wrapping up a busy work week. The events\, hosted by Charleston Area Alliance members\, offer social and networking opportunities in a casual atmosphere.<br />\n<br />\nInvoicing&nbsp\;available&nbsp\;for groups of 10 or more\;&nbsp\;no refunds&nbsp\;issued within 48 hours of the scheduled event. </span></span></span><br />\n&nbsp\;
LOCATION:Hampton Inn Southridge 1 Preferred Place Charleston\, WV 25309
UID:e.1499.1869
SEQUENCE:3
DTSTAMP:20260420T081532Z
URL:https://business.charlestonareaalliance.org/events/details/business-after-hours-hampton-inn-southridge-2016-08-25-2016-1869
END:VEVENT

END:VCALENDAR
