BEGIN:VCALENDAR
VERSION:2.0
PRODID:-//ChamberMaster//Event Calendar 2.0//EN
METHOD:PUBLISH
X-PUBLISHED-TTL:P3D
REFRESH-INTERVAL:P3D
CALSCALE:GREGORIAN
BEGIN:VEVENT
DTSTART:20121213T050000Z
DTEND:20121213T050000Z
X-MICROSOFT-CDO-ALLDAYEVENT:FALSE
SUMMARY:Business After Hours: Hampton Inn - Southridge 2012
DESCRIPTION:Join the Hampton Inn Southridge and the Charleston Area Alliance for the "Holidays at the Hampton" Business After Hours on Thursday\, Dec. 13th.  \n\n	Enjoy delicious catering in a festive atmosphere with holiday music.  Network with area businesses while enjoying the sights and sounds of the season.\n\n	 \n\n	Business After Hours offer fantastic opportunities to meet the region's leaders in a relaxed setting\, all while enjoying food\, drinks and entertainment.\n\n	 \n\n	Early bird rates are $15 for Alliance members and $25 for future members. Prices at the door are $25 for Alliance members and $35 for future members. \n\n	 \n\n	The Alliance will be able to invoice only for groups of 10 or more. Contact Deb Coffman at DCoffman@CharlestonAreaAlliance.org for more information. \n\n	 \n\n	The Alliance cannot issue cancelation refunds within 48 hours of the event. Thank you.
X-ALT-DESC;FMTTYPE=text/html:<p>\n	Join the Hampton Inn Southridge and the Charleston Area Alliance for the &ldquo\;Holidays at the Hampton&quot\; Business After Hours on Thursday\, Dec. 13th. &nbsp\;</p>\n<div>\n	Enjoy delicious catering in a festive atmosphere with holiday music. &nbsp\;Network with area businesses while enjoying the sights and sounds of the season.</div>\n<div>\n	&nbsp\;</div>\n<div>\n	Business After Hours offer fantastic opportunities to meet the region&#39\;s leaders in a relaxed setting\, all while enjoying food\, drinks and entertainment.</div>\n<div>\n	&nbsp\;</div>\n<div>\n	Early bird rates are $15 for Alliance members and $25 for future members.&nbsp\;Prices at the door are $25 for Alliance members and $35 for future members.&nbsp\;</div>\n<div>\n	&nbsp\;</div>\n<div>\n	The Alliance will be able to invoice only for groups of 10 or more. Contact Deb Coffman at DCoffman@CharlestonAreaAlliance.org for more information.&nbsp\;</div>\n<div>\n	&nbsp\;</div>\n<div>\n	The Alliance cannot issue cancelation refunds within 48 hours of the event. Thank you.</div>\n
LOCATION:Hampton Inn - Southridge #1 Preferred Place Charleston\, WV 25309
UID:e.1499.462
SEQUENCE:3
DTSTAMP:20260422T165251Z
URL:https://business.charlestonareaalliance.org/events/details/business-after-hours-hampton-inn-southridge-2012-12-13-2012-462
END:VEVENT

END:VCALENDAR
