BEGIN:VCALENDAR
VERSION:2.0
PRODID:-//ChamberMaster//Event Calendar 2.0//EN
METHOD:PUBLISH
X-PUBLISHED-TTL:P3D
REFRESH-INTERVAL:P3D
CALSCALE:GREGORIAN
BEGIN:VEVENT
DTSTART:20171116T220000Z
DTEND:20171117T000000Z
X-MICROSOFT-CDO-ALLDAYEVENT:FALSE
SUMMARY:Business After Hours - Four Points by Sheraton 2017
DESCRIPTION:Join us for a Business After at Four Points by Sheraton 5-7 p.m. Thursday\, Nov. 16. \n\n\n\nConnect with colleagues and network with business and community leaders at this monthly Alliance event. Four Points by Sheraton sits in the heart of downtown Charleston and features 176 rooms\, six meeting spaces with nearly 9\,000 square feet of function space and a Lobby Lounge offering morning breakfast and evening cocktails. \n\n\n\nRegistration is $15 for Alliance members and $25 for future members. Add $10 if registering less than 24 hours in advance. \n\n\n\nNo refunds are issued within 48 hours of the event. Invoicing is available for groups of 10 or more.
X-ALT-DESC;FMTTYPE=text/html:<p>Join us for a Business After at Four Points by Sheraton 5-7 p.m. Thursday\, Nov. 16.&nbsp\;<br />\n<br />\nConnect with colleagues and network with business and community leaders at this monthly Alliance event. Four Points by Sheraton sits in the heart of downtown Charleston and features 176 rooms\, six meeting spaces with&nbsp\;nearly 9\,000 square feet of function&nbsp\;space and a Lobby Lounge offering morning&nbsp\;breakfast and evening cocktails.&nbsp\;<br />\n<br />\nRegistration is $15 for Alliance members and $25 for future members. Add $10 if registering less than 24 hours in advance.&nbsp\;<br />\n<br />\nNo refunds are issued within 48 hours of the event. Invoicing is available for groups of 10 or more.</p>\n
LOCATION:Four Points by Sheraton 600 Kanawha Boulevard\, East Charleston\, WV 25301
UID:e.1499.1898
SEQUENCE:3
DTSTAMP:20260419T124413Z
URL:https://business.charlestonareaalliance.org/events/details/business-after-hours-four-points-by-sheraton-2017-1898
END:VEVENT

END:VCALENDAR
