BEGIN:VCALENDAR
VERSION:2.0
PRODID:-//ChamberMaster//Event Calendar 2.0//EN
METHOD:PUBLISH
X-PUBLISHED-TTL:P3D
REFRESH-INTERVAL:P3D
CALSCALE:GREGORIAN
BEGIN:VEVENT
DTSTART:20130228T220000Z
DTEND:20130301T000000Z
X-MICROSOFT-CDO-ALLDAYEVENT:FALSE
SUMMARY:Business After Hours - February 2013
DESCRIPTION:Join Charles Ryan Associates and Just Beneath the Surface for February's Business After Hours event. Learn more about the Energy Speaks campaign from industry experts sharing overviews of the oil and natural gas industry and the campaigns education initiatives. \n\n	\n\n	BAH events are fantastic opportunities to network and meet the region's leaders in a relaxed setting\, all while enjoying food\, drinks and entertainment.\n\n	The cost is $15 for Alliance members and $25 for future members who register by February 27th online. Prices the day of the event increase to $25 for Alliance members and $35 for future members.\n\n	\n\n	If you work with an Alliance-member business and need assistance locating your password to access exclusive member-discounts\, email Leigh Anne Strickland\, Director of Member Programs & Services.\n\n	  \n\n	The Alliance cannot issue cancelation refunds within 48 hours of event.
X-ALT-DESC;FMTTYPE=text/html:<p style="color: rgb(0\, 0\, 0)\; font-family: arial\, &quot\;trebuchet ms&quot\;\, monospace\, sans_serif\; font-size: 16px\;">\n	Join Charles Ryan Associates and Just Beneath the Surface&nbsp\;for February&#39\;s Business After Hours event. Learn more about the Energy Speaks campaign from industry experts sharing overviews of the oil and natural gas industry and&nbsp\;the campaigns education initiatives.&nbsp\;</p>\n<p style="color: rgb(0\, 0\, 0)\; font-family: arial\, &quot\;trebuchet ms&quot\;\, monospace\, sans_serif\; font-size: 16px\;">\n	<br />\n	BAH events are fantastic opportunities to network and meet the region&rsquo\;s leaders in a relaxed setting\, all while enjoying food\, drinks and entertainment.</p>\n<p style="color: rgb(0\, 0\, 0)\; font-family: arial\, &quot\;trebuchet ms&quot\;\, monospace\, sans_serif\; font-size: 16px\;">\n	The cost is $15 for Alliance members and $25 for future members who register by February 27th online. Prices the day of the event increase to $25 for Alliance members and $35 for future members.</p>\n<p style="color: rgb(0\, 0\, 0)\; font-family: arial\, &quot\;trebuchet ms&quot\;\, monospace\, sans_serif\; font-size: 16px\;">\n	<br />\n	<span style="color: rgb(178\, 34\, 34)\;"><span style="font-size: 12px\;">If you work with an Alliance-member business and need assistance locating your password to access exclusive member-discounts\, email&nbsp\;<a href="mailto:LStrickland@charlestonareaalliance.org?subject=Password%20Inquiry">Leigh Anne Strickland</a>\, Director of Member Programs &amp\; Services.</span></span><br />\n	<span _fck_bookmark="1" style="display: none\;">&nbsp\;</span><span _fck_bookmark="1" style="display: none\;">&nbsp\;</span></p>\n<p style="color: rgb(0\, 0\, 0)\; font-family: arial\, &quot\;trebuchet ms&quot\;\, monospace\, sans_serif\; font-size: 16px\;">\n	<em><span style="color: rgb(0\, 0\, 0)\;"><span style="font-size: 11px\;">The Alliance cannot issue cancelation refunds within 48 hours of event.&nbsp\;</span></span></em><span style="font-size: 11px\;"><span _fck_bookmark="1" style="display: none\;">&nbsp\;</span></span></p>\n<span _fck_bookmark="1" style="display: none\;">&nbsp\;</span>
LOCATION:Charles Ryan Associates 601 Morris Street Charleston\, WV 25301
UID:e.1499.543
SEQUENCE:3
DTSTAMP:20260422T141645Z
URL:https://business.charlestonareaalliance.org/events/details/business-after-hours-february-2013-02-28-2013-543
END:VEVENT

END:VCALENDAR
