BEGIN:VCALENDAR
VERSION:2.0
PRODID:-//ChamberMaster//Event Calendar 2.0//EN
METHOD:PUBLISH
X-PUBLISHED-TTL:P3D
REFRESH-INTERVAL:P3D
CALSCALE:GREGORIAN
BEGIN:VEVENT
DTSTART:20211014T210000Z
DTEND:20211014T230000Z
X-MICROSOFT-CDO-ALLDAYEVENT:FALSE
SUMMARY:Business After Hours - Embassy Suites Oktoberfest 2021
DESCRIPTION:Join us for an Oktoberfest-themed Business After Hours at Embassy Suites by Hilton on Thursday\, Oct. 14 from 5-7 p.m. Enjoy authentic German food\, specialty beers and wines. \n\n\n\nNetwork with colleagues and connect with business and community leaders at this monthly Alliance event. \n\n\n\nRegistration is $15 for Alliance members and $25 for future members. Add $10 if registering fewer than 24 hours in advance. \n\n\n\nInvoicing is available for groups of 10 or more. No cancellation refunds within 48 hours of event.
X-ALT-DESC;FMTTYPE=text/html:<p>Join us for an Oktoberfest-themed&nbsp\;Business After Hours at Embassy Suites by Hilton on Thursday\, Oct. 14&nbsp\;from 5-7 p.m.&nbsp\;Enjoy authentic German food\,&nbsp\;specialty beers and wines.&nbsp\;<br />\n<br />\nNetwork with colleagues and connect with business and community leaders at this monthly Alliance event.&nbsp\;<br />\n<br />\nRegistration is $15 for Alliance members and $25 for future members. Add $10 if registering fewer than 24 hours in advance.&nbsp\;<br />\n<br />\nInvoicing is available for groups of 10 or more. No cancellation&nbsp\;refunds within 48 hours of event.&nbsp\;</p>\n
LOCATION:Embassy Suites by Hilton 300 Court St. Charleston\, WV 25301
UID:e.1499.5194
SEQUENCE:3
DTSTAMP:20260420T110424Z
URL:https://business.charlestonareaalliance.org/events/details/business-after-hours-embassy-suites-oktoberfest-2021-5194
END:VEVENT

END:VCALENDAR
