BEGIN:VCALENDAR
VERSION:2.0
PRODID:-//ChamberMaster//Event Calendar 2.0//EN
METHOD:PUBLISH
X-PUBLISHED-TTL:P3D
REFRESH-INTERVAL:P3D
CALSCALE:GREGORIAN
BEGIN:VEVENT
DTSTART:20171011T210000Z
DTEND:20171011T230000Z
X-MICROSOFT-CDO-ALLDAYEVENT:FALSE
SUMMARY:Business After Hours - Embassy Suites Oktoberfest 2017
DESCRIPTION:Join the Charleston Area Alliance for an Oktoberfest-themed Business After Hours at Embassy Suites 5-7 p.m. Wednesday\, Oct. 11.  \n\n\n\nEnjoy German food and Oktoberfest specialty beers and wines. Embassy Suites is also offereing several giveaway packages and more. \n\n\n\nRegistration is $15 for Alliance members and $25 for future members. Add $10 if registering less than 24 hours in advance. \n\n\n\nNo refunds are issued within 48 hours of the event. Invoicing is available for groups of 10 or more.
X-ALT-DESC;FMTTYPE=text/html:Join the Charleston Area Alliance for an Oktoberfest-themed Business After Hours at&nbsp\;Embassy Suites 5-7 p.m. Wednesday\, Oct. 11. &nbsp\;<br />\n<br />\nEnjoy German food and Oktoberfest specialty beers and wines. Embassy Suites is also offereing several giveaway packages and more.&nbsp\;<br />\n<br />\nRegistration is $15 for Alliance members and $25 for future members. Add $10 if registering less than 24 hours in advance.&nbsp\;<br />\n<br />\nNo refunds are issued within 48 hours of the event. Invoicing is available for groups of 10 or more.&nbsp\;
LOCATION:Embassy Suites 300 Court Street Charleston\, WV 25301
UID:e.1499.1897
SEQUENCE:3
DTSTAMP:20260419T140613Z
URL:https://business.charlestonareaalliance.org/events/details/business-after-hours-embassy-suites-oktoberfest-2017-1897
END:VEVENT

END:VCALENDAR
