BEGIN:VCALENDAR
VERSION:2.0
PRODID:-//ChamberMaster//Event Calendar 2.0//EN
METHOD:PUBLISH
X-PUBLISHED-TTL:P3D
REFRESH-INTERVAL:P3D
CALSCALE:GREGORIAN
BEGIN:VEVENT
DTSTART:20161208T220000Z
DTEND:20161209T000000Z
X-MICROSOFT-CDO-ALLDAYEVENT:FALSE
SUMMARY:Business After Hours - December 2016
DESCRIPTION:Join the Charleston Area Alliance and MVB Bank for a holiday-themed Business After Hours on December 8\, 2016 from 5-7:00 p.m. All ticket prices include complimentary food and beverages.\n\n\n\nThe branch features interactive technology in both the lobby and drive-through. The bank's lobby and offices feature paintings by local West Virginia artists\, and an engaging display of historic photographs portraying neighborhoods near the Capitol\, along the Kanawha River and downtown Charleston. \n\n\n\nBAH events are fantastic opportunities to network and meet the region's leaders in a relaxed setting\, all while enjoying food and drinks.\n\n\n\nThe cost is $15 for Alliance members and $25 for future members who register online before 5:00 p.m. on December 7.\n\n\n\nPrices increase after 5:00 p.m. on December 7 to $25 for Alliance members and $35 for future members.\n\n\n\nInvoicing available for groups of 10 or more\; no cancelation refunds within 48 hours of the event.
X-ALT-DESC;FMTTYPE=text/html:<p>Join the Charleston Area Alliance and MVB Bank for a holiday-themed Business After Hours on&nbsp\;December&nbsp\;8\, 2016 from 5-7:00 p.m. All ticket prices include complimentary food and beverages.<br />\n<br />\nThe branch features interactive technology in both the lobby and drive-through. The bank&#39\;s lobby and offices feature paintings by local West Virginia artists\, and an engaging display of historic photographs portraying neighborhoods near the Capitol\, along the Kanawha River and downtown Charleston.&nbsp\;<br />\n<br />\nBAH events are fantastic opportunities to network and meet the region&#39\;s leaders in a relaxed setting\, all while enjoying food and&nbsp\;drinks.<br />\n<br />\nThe cost is $15 for Alliance members and $25 for future members who register online before 5:00 p.m.&nbsp\;on December 7.<br />\n<br />\nPrices increase after 5:00 p.m. on&nbsp\;December&nbsp\;7&nbsp\;to $25 for Alliance members and $35 for future members.<br />\n<br />\nInvoicing available for groups of 10 or more\;&nbsp\;no cancelation refunds within 48 hours of the&nbsp\;event.</p>\n
LOCATION:MVB Bank 400 Washington St.\, E. Charleston\, WV 25301
UID:e.1499.1880
SEQUENCE:3
DTSTAMP:20260420T025137Z
URL:https://business.charlestonareaalliance.org/events/details/business-after-hours-december-2016-1880
END:VEVENT

END:VCALENDAR
