BEGIN:VCALENDAR
VERSION:2.0
PRODID:-//ChamberMaster//Event Calendar 2.0//EN
METHOD:PUBLISH
X-PUBLISHED-TTL:P3D
REFRESH-INTERVAL:P3D
CALSCALE:GREGORIAN
BEGIN:VEVENT
DTSTART:20151210T220000Z
DTEND:20151211T000000Z
X-MICROSOFT-CDO-ALLDAYEVENT:FALSE
SUMMARY:Business After Hours - December 2015
DESCRIPTION:Join the Charleston Area Alliance and MVB Bank for a holiday-themed Business After Hours on December 10\, 2015. All ticket prices include complimentary food and beverages.\n\n\n\nThis exciting networking event will be hosted at one of MVB's newest locations\, which opened in March 2015. \n\n\n\nThe branch features interactive technology in both the lobby and drive-thru. The bank's lobby and offices feature paintings by local West Virginia artists\, and an engaging display of historic photographs portraying neighborhoods near the Capitol\, along the Kanawha River and downtown Charleston. \n\n\n\nBAH events are fantastic opportunities to network and meet the region's leaders in a relaxed setting\, all while enjoying food\, drinks and entertainment.\n\n\n\nThe cost is $15 for Alliance members and $25 for future members who register online before the day of the scheduled event.\n\n\n\nPrices increase after 5:00 p.m. on December 9 to $25 for Alliance members and $35 for future members.\n\n\n\nInvoicing available for groups of 10 or more.  No cancelation refunds within 48 hours of the scheduled event.
X-ALT-DESC;FMTTYPE=text/html:<p>Join the Charleston Area Alliance and MVB Bank for a holiday-themed Business After Hours on&nbsp\;December&nbsp\;10\, 2015. All ticket prices include complimentary food and beverages.<br />\n<br />\nThis exciting networking event will be hosted at one of MVB&#39\;s newest locations\, which opened in March 2015.&nbsp\;<br />\n<br />\nThe branch features interactive technology in both the lobby and drive-thru. The bank&#39\;s lobby and offices feature paintings by local West Virginia artists\, and an engaging display of historic photographs portraying neighborhoods near the Capitol\, along the Kanawha River and downtown Charleston.&nbsp\;<br />\n<br />\nBAH events are fantastic opportunities to network and meet the region&#39\;s leaders in a relaxed setting\, all while enjoying food\, drinks and entertainment.<br />\n<br />\nThe cost is $15 for Alliance members and $25 for future members who register online before the day of the scheduled event.<br />\n<br />\nPrices increase after 5:00 p.m. on&nbsp\;December 9&nbsp\;to $25 for Alliance members and $35 for future members.<br />\n<br />\nInvoicing available for groups of 10 or more.&nbsp\;&nbsp\;No cancelation refunds within 48 hours of the scheduled event.</p>\n
LOCATION:MVB Bank 400 Washington St.\, E. Charleston\, WV 25301
UID:e.1499.815
SEQUENCE:3
DTSTAMP:20260420T194917Z
URL:https://business.charlestonareaalliance.org/events/details/business-after-hours-december-2015-12-10-2015-815
END:VEVENT

END:VCALENDAR
