BEGIN:VCALENDAR
VERSION:2.0
PRODID:-//ChamberMaster//Event Calendar 2.0//EN
METHOD:PUBLISH
X-PUBLISHED-TTL:P3D
REFRESH-INTERVAL:P3D
CALSCALE:GREGORIAN
BEGIN:VEVENT
DTSTART:20141211T220000Z
DTEND:20141212T000000Z
X-MICROSOFT-CDO-ALLDAYEVENT:FALSE
SUMMARY:Business After Hours - December 2014
DESCRIPTION:Join the Charleston Area Alliance for Business After Hours on Dec. 11. All ticket prices include complimentary food and beverages. It will be held at the Holiday Inn & Suites Charleston West in South Charleston. \n \n\nBAH events are fantastic opportunities to network and meet the region's leaders in a relaxed setting\, all while enjoying food\, drinks and entertainment.\n\nThe cost is $15 for Alliance members and $25 for future members who register online before the day of the scheduled event. Prices the day of the event increase to $25 for Alliance members and $35 for future members.\nRegister via the blue button at top left. If you work with an Alliance-member business and need assistance locating your password to access exclusive discounts\, email Elizabeth Perry (EPerry@CharlestonAreaAlliance.org). \n\n\n\nThe Alliance cannot issue cancelation refunds within 48 hours of the scheduled event.
X-ALT-DESC;FMTTYPE=text/html:<p><br />\n<span style="color: rgb(105\, 105\, 105)\;">Join the Charleston Area Alliance for Business After Hours on Dec. 11. All ticket prices include complimentary food and beverages. It will be held at the Holiday Inn &amp\; Suites Charleston West in South Charleston. </span></p>\n&nbsp\;\n\n<p style="font: inherit\; margin: 0px\; padding: 0px 0px 1.75em\; border: 0px currentColor\; border-image: none\; text-align: left\; color: rgb(0\, 0\, 0)\; vertical-align: top\; font-size-adjust: inherit\; font-stretch: inherit\;"><span style="color: rgb(105\, 105\, 105)\;">BAH events are fantastic opportunities to network and meet the region&rsquo\;s leaders in a relaxed setting\, all while enjoying food\, drinks and entertainment.</span></p>\n\n<p style="font: inherit\; margin: 0px\; padding: 0px 0px 1.75em\; border: 0px currentColor\; border-image: none\; text-align: left\; color: rgb(0\, 0\, 0)\; vertical-align: top\; font-size-adjust: inherit\; font-stretch: inherit\;"><span style="color: rgb(105\, 105\, 105)\;">The cost is $15 for Alliance members and $25 for future members who register&nbsp\;online before the day of the scheduled event. Prices the day of the event increase to $25 for Alliance members and $35 for future members.</span></p>\n<span style="color: rgb(105\, 105\, 105)\;">Register via the blue button at top left. If you work with an Alliance-member business and need assistance locating your&nbsp\;</span><span style="color: rgb(178\, 34\, 34)\;">password&nbsp\;</span><span style="color: rgb(105\, 105\, 105)\;">to access exclusive discounts\,</span><span style="color: rgb(105\, 105\, 105)\;">&nbsp\;email <a href="mailto:eperry@charlestonareaalliance.org">Elizabeth Perry</a> (EPerry@CharlestonAreaAlliance.org).&nbsp\;<br />\n<br />\nThe Alliance cannot issue&nbsp\;cancelation&nbsp\;refunds within 48 hours of the scheduled event.</span>
LOCATION:Holiday Inn and Suites Charleston West 400 2nd Ave SW Charleston\, WV 25303
UID:e.1499.743
SEQUENCE:3
DTSTAMP:20260421T102359Z
URL:https://business.charlestonareaalliance.org/events/details/business-after-hours-december-2014-12-11-2014-743
END:VEVENT

END:VCALENDAR
