BEGIN:VCALENDAR
VERSION:2.0
PRODID:-//ChamberMaster//Event Calendar 2.0//EN
METHOD:PUBLISH
X-PUBLISHED-TTL:P3D
REFRESH-INTERVAL:P3D
CALSCALE:GREGORIAN
BEGIN:VEVENT
DTSTART:20170511T210000Z
DTEND:20170512T000000Z
X-MICROSOFT-CDO-ALLDAYEVENT:FALSE
SUMMARY:Business After Hours - City National Bank 2017
DESCRIPTION:Join City National Bank and the Charleston Area Alliance for one of the most anticipated Business Hours events of the year.  Don't miss the annual City National Block Party hosted in the bank parking lot on the corner of Hale and Virginia Streets. Don't miss this opportunity to network and enjoy the great summer weather with friends and colleagues. - See more at: http://charlestonareaalliance.chambermaster.com/Events/details/business-after-hours-may-2014-699\n\n\nJoin us for the City National Bank Annual Business After Hours Block Party on Thursday\, May 11 from 5-8 p.m. at the City National Bank Hale Street location in downtown Charleston. \n\n\n\nThe City National Bank event is Charleston's largest Block Party and a great kick-off to summer. The event will feature indoor/outdoor bars and food catered by the Bridge Road Bistro.  \n\n\n\nBusiness After Hours is the perfect way to wrap up a busy work week. The event offers social and networking opportunities in a casual atmosphere. The get-togethers are hosted by Charleston Area Alliance members. \n\n\n\nRegistration is $15 for Alliance members and $25 for future members. At 5 p.m. May 10 registration prices increase to $25 for Alliance members and $35 for future members.\n\n\n\nInvoice is available for groups of 10 or more. No refunds are issued within 48 hours of the event.
X-ALT-DESC;FMTTYPE=text/html:<div id="stcpDiv" style="left: -1988px\; top: -1999px\; position: absolute\;">Join City National Bank and the Charleston Area Alliance for one of the most anticipated Business Hours events of the year.&nbsp\; Don&#39\;t miss the annual City National Block Party hosted in the bank parking lot on the corner of Hale and Virginia Streets. Don&#39\;t miss this opportunity to network and enjoy the great summer weather with friends and colleagues. - See more at: http://charlestonareaalliance.chambermaster.com/Events/details/business-after-hours-may-2014-699</div>\n\n<div style="color: gray\;">\n<p><span style="color: rgb(0\, 0\, 0)\;">Join us for the City National Bank Annual Business After Hours Block Party on&nbsp\;Thursday\, May 11 from 5-8 p.m. at the City National Bank Hale Street location in downtown Charleston.&nbsp\;<br />\n<br />\nThe City National Bank event&nbsp\;is Charleston&#39\;s largest Block Party and&nbsp\;a great kick-off to summer. The event will feature&nbsp\;indoor/outdoor bars and food catered by the Bridge Road Bistro.&nbsp\;&nbsp\;<br />\n<br />\nBusiness After Hours is the perfect way to wrap up a busy work week.&nbsp\;The event offers social and networking opportunities in a casual atmosphere. The&nbsp\;get-togethers&nbsp\;are hosted by Charleston Area Alliance members.&nbsp\;<br />\n<br />\nRegistration is $15 for Alliance members and $25 for future members. At 5 p.m. May 10 registration prices increase to $25 for Alliance members and $35 for future members.<br />\n<br />\nInvoice is available for groups of 10 or more. No refunds are issued within 48 hours of the event.&nbsp\;</span></p>\n</div>\n
LOCATION:City National Bank 10 Hale Street Charleston\, WV 25301
UID:e.1499.1893
SEQUENCE:3
DTSTAMP:20260419T214835Z
URL:https://business.charlestonareaalliance.org/events/details/business-after-hours-city-national-bank-2017-1893
END:VEVENT

END:VCALENDAR
