BEGIN:VCALENDAR
VERSION:2.0
PRODID:-//ChamberMaster//Event Calendar 2.0//EN
METHOD:PUBLISH
X-PUBLISHED-TTL:P3D
REFRESH-INTERVAL:P3D
CALSCALE:GREGORIAN
BEGIN:VEVENT
DTSTART:20130523T210000Z
DTEND:20130523T230000Z
X-MICROSOFT-CDO-ALLDAYEVENT:FALSE
SUMMARY:Business After Hours - City National Bank 2013
DESCRIPTION:Join City National Bank and the Charleston Area Alliance for one of the most anticipated Business Hours Events of the year. May 23\, 2013 marks the annual City National Block Party hosted in the bank parking lot on the corner of Hale and Virginia Streets. Don't miss this opportunity to network and enjoy the great summer weather with friends and colleagues.\n \n\nBAH events are fantastic opportunities to network and meet the region's leaders in a relaxed setting\, all while enjoying food\, drinks and entertainment.\n\nThe cost is $15 for Alliance members and $25 for future members who register online before the day of the scheduled event. Prices the day of the event increase to $25 for Alliance members and $35 for future members.\n\n\nRegister via the blue button at top left. If you work with an Alliance-member business and need assistance locating your password\, email Leigh Anne Strickland\, Director Member Programs & Services.
X-ALT-DESC;FMTTYPE=text/html:<p><span style="color: rgb(105\, 105\, 105)\;"><span style="font-size: 12px\;">Join City National Bank and the Charleston Area Alliance for one of the most anticipated Business Hours Events of the year. May 23\, 2013 marks the annual City National Block Party hosted in the bank parking lot on the corner of Hale and Virginia Streets. Don&#39\;t miss this opportunity to network and enjoy the great summer weather with friends and colleagues.</span></span></p>\n&nbsp\;\n\n<p style="font: inherit\; margin: 0px\; padding: 0px 0px 1.75em\; border: 0px currentColor\; border-image: none\; text-align: left\; color: rgb(0\, 0\, 0)\; vertical-align: top\; font-size-adjust: inherit\; font-stretch: inherit\;"><span style="color: rgb(105\, 105\, 105)\;"><span style="font-size: 12px\;">BAH events are fantastic opportunities to network and meet the region&rsquo\;s leaders in a relaxed setting\, all while enjoying food\, drinks and entertainment.</span></span></p>\n\n<p style="font: inherit\; margin: 0px\; padding: 0px 0px 1.75em\; border: 0px currentColor\; border-image: none\; text-align: left\; color: rgb(0\, 0\, 0)\; vertical-align: top\; font-size-adjust: inherit\; font-stretch: inherit\;"><span style="color: rgb(105\, 105\, 105)\;"><span style="font-size: 12px\;">The cost is $15 for Alliance members and $25 for future members who register&nbsp\;online before the day of the scheduled event. Prices the day of the event increase to $25 for Alliance members and $35 for future members.</span></span></p>\n<br />\n<span style="font-size: 12px\;"><span style="color: rgb(105\, 105\, 105)\;">Register via the blue button at top left. If you work with an Alliance-member business and need assistance locating your password\, email </span><a href="mailto:LStrickland@charlestonareaalliance.org?subject=Password%20Inquiry"><span style="color: rgb(105\, 105\, 105)\;">Leigh Anne Strickland</span></a><span style="color: rgb(105\, 105\, 105)\;">\, Director Member Programs &amp\; Services.</span></span><br />\n<br />\n&nbsp\;\n<p><br />\n&nbsp\;</p>\n
LOCATION:City National Bank parking lot on corner of Hale and Virginia St 10 Hale Street Charleston\, WV 25301
UID:e.1499.635
SEQUENCE:3
DTSTAMP:20260422T102253Z
URL:https://business.charlestonareaalliance.org/events/details/business-after-hours-city-national-bank-2013-635
END:VEVENT

END:VCALENDAR
