BEGIN:VCALENDAR
VERSION:2.0
PRODID:-//ChamberMaster//Event Calendar 2.0//EN
METHOD:PUBLISH
X-PUBLISHED-TTL:P3D
REFRESH-INTERVAL:P3D
CALSCALE:GREGORIAN
BEGIN:VEVENT
DTSTART:20170810T210000Z
DTEND:20170810T230000Z
X-MICROSOFT-CDO-ALLDAYEVENT:FALSE
SUMMARY:Business After Hours - Charleston Marriott & Charleston CVB 2017
DESCRIPTION:Join the Charleston Area Alliance for Business After Hours at the Marriott Charleston Town Center\, presented by the Marriott and the Charleston Convention & Visitors Bureau on August 10\, 2017 from 5 - 7 p.m. at the Marriott located at 200 Lee Street\, East. \n\n\n\nThe Marriott is the official hotel partner and the Charleston Convention & Visitors Bureau is the official meeting planner for the International Pageant System\, which is hosting its final competitions in Charleston Aug. 11-12.\n\n\n\nBusiness After Hours will feature a silent auction with baskets donated by Mrs. International Pageant contestants who are competing in the Charleston-based final competition. Proceeds from the silent auction benefit Go Red for Women and the American Heart Association\, the official platform of the International Pageants System.\n\n\n\nThe cost is $15 for Alliance members and $25 for future members who register online before 5 p.m. on August 9.  Prices increase after 5 p.m. on August 9 to $25 for Alliance members and $35 for future members.\n\n\n\nInvoicing available for 10 or more\; no refunds issued within 48 hours of the event.
X-ALT-DESC;FMTTYPE=text/html:<p>Join the Charleston Area Alliance for Business After Hours at&nbsp\;the&nbsp\;Marriott Charleston Town Center\, presented by the Marriott&nbsp\;and the Charleston Convention&nbsp\;&amp\; Visitors Bureau&nbsp\;on August 10\, 2017 from 5 -&nbsp\;7 p.m. at the Marriott located at 200 Lee Street\, East.&nbsp\;<br />\n<br />\nThe Marriott is the official hotel partner and the Charleston Convention &amp\; Visitors Bureau is the official meeting planner for the International Pageant System\, which is hosting its final competitions in Charleston Aug. 11-12.<br />\n<br />\nBusiness After Hours will feature a silent auction with baskets donated by Mrs. International Pageant contestants who are competing in the Charleston-based final competition.&nbsp\;Proceeds from the silent auction benefit Go Red for Women and the American Heart Association\, the official platform of the International Pageants System.<br />\n<br />\nThe cost is $15 for Alliance members and $25 for future members who register online before 5 p.m. on August 9.&nbsp\; Prices increase after&nbsp\;5 p.m. on August 9 to $25 for Alliance members and $35 for future members.<br />\n<br />\nInvoicing available for 10 or more\; no refunds&nbsp\;issued within 48 hours of the event.<br />\n&nbsp\;</p>\n
LOCATION:Marriott Charleston Town Center 200 Lee Street\, East Charleston\, WV 25301
UID:e.1499.1895
SEQUENCE:3
DTSTAMP:20260419T164804Z
URL:https://business.charlestonareaalliance.org/events/details/business-after-hours-charleston-marriott-charleston-cvb-2017-1895
END:VEVENT

END:VCALENDAR
