BEGIN:VCALENDAR
VERSION:2.0
PRODID:-//ChamberMaster//Event Calendar 2.0//EN
METHOD:PUBLISH
X-PUBLISHED-TTL:P3D
REFRESH-INTERVAL:P3D
CALSCALE:GREGORIAN
BEGIN:VEVENT
DTSTART:20150827T210000Z
DTEND:20150827T230000Z
X-MICROSOFT-CDO-ALLDAYEVENT:FALSE
SUMMARY:Business After Hours - August 2015
DESCRIPTION:Join the Charleston Area Alliance from 5 - 7 p.m. Thursday\, August 27 for Business After Hours hosted by Holiday Inn & Suites in South Charleston.\n\n\n\nWear your favorite Hawaiian shirt as the hotel and conference center hosts a "Lu-Wow" themed celebration. They will also unveil the new design of its DiscoverCharlestonWV.com website. \n\n\n\nFree parking is available. \n\n\n\nThe early registration rate is $15 for Alliance members and $25 for future members. Early registration rates expire at 5 p.m. Wednesday\, August 26\, when prices increase to $25 for Alliance members and $35 for future members.\n\n\n\nBusiness After Hours is the perfect way to start wrapping up a busy work week. The events\, hosted by Charleston Area Alliance members\, offer social and networking opportunities in a casual atmosphere.\n\n\n\nInvoicing is available for groups of 10 or more. The Alliance cannot issue cancelation refunds within 48 hours of the scheduled event.
X-ALT-DESC;FMTTYPE=text/html:<span style="font-size: 10pt\;"><span style="font-family: arial\,sans-serif\;"><span style="color: rgb(51\, 51\, 51)\;">Join the Charleston Area Alliance from 5 - 7 p.m. Thursday\, August 27 for Business After Hours&nbsp\;hosted by&nbsp\;Holiday Inn &amp\; Suites in South Charleston.<br />\n<br />\nWear your favorite Hawaiian shirt as the hotel and conference center hosts a &quot\;Lu-Wow&quot\; themed celebration. They will also unveil the new design of its DiscoverCharlestonWV.com website.&nbsp\;<br />\n<br />\nFree parking is available.&nbsp\;<br />\n<br />\nThe early registration rate is $15 for Alliance members and $25 for future members. Early registration rates expire at 5 p.m. Wednesday\, August 26\, when prices increase to $25 for Alliance members and $35 for future members.<br />\n<br />\nBusiness After Hours is the perfect way to start wrapping up a busy work week. The events\, hosted by Charleston Area Alliance members\, offer social and networking opportunities in a casual atmosphere.<br />\n<br />\nInvoicing is available&nbsp\;for groups of 10 or more. The Alliance&nbsp\;cannot issue cancelation refunds within 48 hours of the scheduled event. </span></span></span><br />\n&nbsp\;
LOCATION:Holiday Inn & Suites 400 Second Avenue South Charleston\, WV
UID:e.1499.799
SEQUENCE:3
DTSTAMP:20260421T003037Z
URL:https://business.charlestonareaalliance.org/events/details/business-after-hours-august-2015-08-27-2015-799
END:VEVENT

END:VCALENDAR
