BEGIN:VCALENDAR
VERSION:2.0
PRODID:-//ChamberMaster//Event Calendar 2.0//EN
METHOD:PUBLISH
X-PUBLISHED-TTL:P3D
REFRESH-INTERVAL:P3D
CALSCALE:GREGORIAN
BEGIN:VEVENT
DTSTART:20130827T210000Z
DTEND:20130827T230000Z
X-MICROSOFT-CDO-ALLDAYEVENT:FALSE
SUMMARY:Business After Hours - August 2013
DESCRIPTION:Join the Hampton Inn - Southridge staff and the Charleston Area Alliance for Business After Hours August 27\, 2013.\n\n	\n\n	If you work with an Alliance-member business and need assistance locating your password to access exclusive discounts\, email Deb Coffman.
X-ALT-DESC;FMTTYPE=text/html:<p>\n	Join the Hampton Inn - Southridge staff and the Charleston Area Alliance for Business After Hours August 27\, 2013.<br />\n	<br />\n	If you work with an Alliance-member business and need assistance locating your <span style="color: rgb(178\, 34\, 34)\;">password</span> to access exclusive discounts\, email <a href="mailto:dcoffman@charlestonareaalliance.org?subject=Need%20member%20password">Deb Coffman. </a></p>\n
LOCATION:Hampton Inn - Southridge 1 Preferred Place Charleston\, WV 25309
UID:e.1499.638
SEQUENCE:3
DTSTAMP:20260422T062423Z
URL:https://business.charlestonareaalliance.org/events/details/business-after-hours-august-2013-08-27-2013-638
END:VEVENT

END:VCALENDAR
