BEGIN:VCALENDAR
VERSION:2.0
PRODID:-//ChamberMaster//Event Calendar 2.0//EN
METHOD:PUBLISH
X-PUBLISHED-TTL:P3D
REFRESH-INTERVAL:P3D
CALSCALE:GREGORIAN
BEGIN:VEVENT
DTSTART:20140424T210000Z
DTEND:20140424T230000Z
X-MICROSOFT-CDO-ALLDAYEVENT:FALSE
SUMMARY:Business After Hours - April 2014
DESCRIPTION:Join the Charleston Area Alliance for Business After Hours on April 24. All ticket prices include complimentary food and beverages. It will be hosted by the Four Points by Sheraton.\n\n\n\nBAH events are fantastic opportunities to network and meet the region's leaders in a relaxed setting\, all while enjoying food\, drinks and entertainment.\n\n\n\nThe cost is $15 for Alliance members and $25 for future members who register online before the day of the scheduled event. Prices the day of the event increase to $25 for Alliance members and $35 for future members.\n\n\n\nRegister via the blue button at top left. If you work with an Alliance-member business and need assistance locating your password to access exclusive discounts\, email Deb Coffman (DCoffman@CharlestonAreaAlliance.org). \nThe Alliance cannot issue cancelation refunds within 48 hours of the scheduled event.
X-ALT-DESC;FMTTYPE=text/html:<p><br />\nJoin the Charleston Area Alliance for Business After Hours on April 24. All ticket prices include complimentary food and beverages. It will be hosted by the Four Points by Sheraton.<br />\n<br />\nBAH events are fantastic opportunities to network and meet the region&rsquo\;s leaders in a relaxed setting\, all while enjoying food\, drinks and entertainment.<br />\n<br />\nThe cost is $15 for Alliance members and $25 for future members who register online before the day of the scheduled event. Prices the day of the event increase to $25 for Alliance members and $35 for future members.<br />\n<br />\nRegister via the blue button at top left. If you work with an Alliance-member business and need assistance locating your password to access exclusive discounts\, email&nbsp\;<a href="mailto:DCoffman@CharlestonAreaAlliance.org?subject=Password%20Inquiry">Deb&nbsp\;Coffman</a>&nbsp\;(DCoffman@CharlestonAreaAlliance.org).&nbsp\;</p>\nThe Alliance cannot issue cancelation refunds within 48 hours of the scheduled event.
LOCATION:Four Points by Sheraton 600 Kanawha Boulevard East Charleston\, WV 25301
UID:e.1499.696
SEQUENCE:3
DTSTAMP:20260421T213656Z
URL:https://business.charlestonareaalliance.org/events/details/business-after-hours-april-2014-04-24-2014-696
END:VEVENT

END:VCALENDAR
