BEGIN:VCALENDAR
VERSION:2.0
PRODID:-//ChamberMaster//Event Calendar 2.0//EN
METHOD:PUBLISH
X-PUBLISHED-TTL:P3D
REFRESH-INTERVAL:P3D
CALSCALE:GREGORIAN
BEGIN:VEVENT
DTSTART;VALUE=DATE:20140919
DTEND;VALUE=DATE:20140920
TRANSP:TRANSPARENT
X-MICROSOFT-CDO-ALLDAYEVENT:TRUE
SUMMARY:Brown Bag Concert - Sept. 2014
DESCRIPTION:On Friday\, Sept. 15\, grab your lunch and head to Davis Park for free live music at the Brown Bag Concert.\n\n\n\nA Charleston Area Alliance program\, the concert will feature a football tailgate theme with music from the West Virginia State University Jazz Ensemble and the St. Albans High School Marching Dragons.\n\n\n\nWear your favorite high school\, college or professional football team gear.\n\n\n\nThe concert is the one of many programs and projects to come out of the "Imagine Charleston" plan.\n\n\n\nSeveral Charleston restaurants are offering lunch specials for guests to enjoy at the concert.\n\n\n\nThe restaurants offering brown bag specials include: Bridge Road Bistro Food Truck\, Pies & Pints Pizzeria\, Swiftwater Caf  and Swiftwater General Store.\n\n\nFor more information and full descriptions of the lunchtime food specials\, click HERE.
X-ALT-DESC;FMTTYPE=text/html:On Friday\, Sept. 15\, grab your lunch and head to Davis Park for free live music at the Brown Bag Concert.<br />\n<br />\nA Charleston Area Alliance program\, the concert will feature a football tailgate theme with music from the West Virginia State University Jazz Ensemble and the St. Albans High School Marching Dragons.<br />\n<br />\nWear your favorite high school\, college or professional football team gear.<br />\n<br />\nThe concert&nbsp\;is the one of many programs and projects to come out of the &quot\;Imagine Charleston&quot\; plan.<br />\n<br />\nSeveral Charleston restaurants are offering lunch specials for guests to enjoy at the concert.<br />\n<br />\nThe restaurants offering brown bag specials include: Bridge Road Bistro Food Truck\, Pies &amp\; Pints Pizzeria\, Swiftwater Caf&eacute\; and Swiftwater General Store.\n<div _rdeditor_temp="1"><br />\nFor more&nbsp\;information&nbsp\;and full descriptions of the&nbsp\;lunchtime food specials\, click <a href="https://www.facebook.com/brownbagconcertdowntown?ref_type=bookmark">HERE</a>.<br />\n&nbsp\;</div>\n
LOCATION:Davis Park
UID:e.1499.731
SEQUENCE:3
DTSTAMP:20260421T144421Z
URL:https://business.charlestonareaalliance.org/events/details/brown-bag-concert-sept-2014-09-19-2014-731
END:VEVENT

END:VCALENDAR
