BEGIN:VCALENDAR
VERSION:2.0
PRODID:-//ChamberMaster//Event Calendar 2.0//EN
METHOD:PUBLISH
X-PUBLISHED-TTL:P3D
REFRESH-INTERVAL:P3D
CALSCALE:GREGORIAN
BEGIN:VEVENT
DTSTART:20141010T163000Z
DTEND:20141010T183000Z
X-MICROSOFT-CDO-ALLDAYEVENT:FALSE
SUMMARY:Brown Bag Concert - Oct. 2014
DESCRIPTION:On Friday\, Oct. 10\, grab your lunch and head to Davis Park for free live music at the Brown Bag Concert.\n\n\n\nA Charleston Area Alliance program\, the concert will feature Common Notes: An Afternoon of Appalachian & World Music\, featuring local guitarist Robin Kessinger\, Romanian instrumentalists and the Davis & Elkins Appalachian Ensemble.\n\n\n\nThis concert will be presented by the Clay Center.\n\n\n\nThe concert is the one of many programs and projects to come out of the "Imagine Charleston" plan.\n\n\n\nSeveral Charleston restaurants are offering lunch specials for guests to enjoy at the concert.\n\n\n\nFor more information and full descriptions of the lunchtime food specials\, click HERE.
X-ALT-DESC;FMTTYPE=text/html:On Friday\, Oct. 10\, grab your lunch and head to Davis Park for free live music at the Brown Bag Concert.<br />\n<br />\nA Charleston Area Alliance program\, the concert will feature Common Notes: An Afternoon of Appalachian &amp\; World Music\, featuring local guitarist Robin Kessinger\, Romanian instrumentalists and the Davis &amp\; Elkins Appalachian Ensemble.<br />\n<br />\nThis concert will be presented by the Clay Center.<br />\n<br />\nThe concert&nbsp\;is the one of many programs and projects to come out of the &quot\;Imagine Charleston&quot\; plan.<br />\n<br />\nSeveral Charleston restaurants are offering lunch specials for guests to enjoy at the concert.<br />\n<br />\nFor more&nbsp\;information&nbsp\;and full descriptions of the&nbsp\;lunchtime food specials\, click <a href="https://www.facebook.com/brownbagconcertdowntown?ref_type=bookmark">HERE</a>.\n\n<div _rdeditor_temp="1">&nbsp\;</div>\n
LOCATION:Davis Park (If there's inclement weather\, the concert will be held at Center Court at the Charleston Town Center.)
UID:e.1499.734
SEQUENCE:3
DTSTAMP:20260421T132033Z
URL:https://business.charlestonareaalliance.org/events/details/brown-bag-concert-oct-2014-10-10-2014-734
END:VEVENT

END:VCALENDAR
