BEGIN:VCALENDAR
VERSION:2.0
PRODID:-//ChamberMaster//Event Calendar 2.0//EN
METHOD:PUBLISH
X-PUBLISHED-TTL:P3D
REFRESH-INTERVAL:P3D
CALSCALE:GREGORIAN
BEGIN:VEVENT
DTSTART:20170719T153000Z
DTEND:20170719T173000Z
X-MICROSOFT-CDO-ALLDAYEVENT:FALSE
SUMMARY:Brown Bag Concert - July 2017
DESCRIPTION:The Brown Bag Concert is a free lunchtime concert in Davis Park\, along the corner of Capitol and Lee Streets in Downtown Charleston. The July 19 concert will feature Highway Jones & Friends.\n\n\n\nSponsored by American Medical Facilities Management\, local musicians perform in the park 11:30 a.m. to 1:30 p.m. the third Wednesday of each month May through October. The Brown Bag Concerts are planned in coordination with American Federation of Musician's Local 136. \n\n\n\nAttendees are encouraged to bring their lunch\, grab takeout from a Downtown Charleston restaurant or purchase on-site from local vendors. Tables and chairs will be setup for those attending.\n\n\n\nThe lunchtime concerts stems from the Imagine Charleston Downtown Redevelopment Plan. The concerts are designed to showcase the talent of local musicians\, encourage people to get away from their desk at the lunch hour and put a spotlight on the green space in Downtown Charleston.
X-ALT-DESC;FMTTYPE=text/html:The Brown Bag Concert is a free lunchtime concert in Davis Park\, along the corner of Capitol and Lee Streets in Downtown Charleston. The July 19 concert will feature Highway Jones &amp\; Friends.<br />\n<br />\nSponsored by American Medical Facilities Management\, local musicians perform in the park&nbsp\;11:30 a.m. to 1:30 p.m.&nbsp\;the third Wednesday of each month May through October. The Brown Bag Concerts are planned&nbsp\;in coordination with American Federation of Musician&rsquo\;s Local 136.&nbsp\;<br />\n<br />\nAttendees are encouraged to bring their lunch\, grab takeout from a Downtown Charleston restaurant or purchase on-site from local vendors. Tables and chairs will be setup for those attending.<br />\n<br />\nThe lunchtime concerts stems from the Imagine Charleston Downtown Redevelopment Plan. The concerts are designed to showcase the talent of local musicians\, encourage people to get away from their desk at the lunch hour and put a spotlight on the green space in Downtown Charleston.
LOCATION:Davis Park between Capitol and Summers Streets along the corner of Lee Street East
UID:e.1499.1916
SEQUENCE:3
DTSTAMP:20260419T174937Z
URL:https://business.charlestonareaalliance.org/events/details/brown-bag-concert-july-2017-1916
END:VEVENT

END:VCALENDAR
