BEGIN:VCALENDAR
VERSION:2.0
PRODID:-//ChamberMaster//Event Calendar 2.0//EN
METHOD:PUBLISH
X-PUBLISHED-TTL:P3D
REFRESH-INTERVAL:P3D
CALSCALE:GREGORIAN
BEGIN:VEVENT
DTSTART:20161112T150000Z
DTEND:20161112T220000Z
X-MICROSOFT-CDO-ALLDAYEVENT:FALSE
SUMMARY:BoutiqueWalk Holiday Open House
DESCRIPTION:Stroll\, shop and discover at BoutiqueWalk - Holiday Open House 10 a.m. to 5 p.m. Saturday\, Nov. 12 at participating retailers throughout Downtown Charleston. \n\n\n\nStop in downtown boutiques for in-store promotions\, trunk shows\, demos\, hands-on activities and more. \n\n\n\nIncluded in the mix is a diverse group of shops\, boutiques\, art galleries and antique stores. The BoutiqueWalk Holiday Open House is coordinated by the Charleston Area Alliance.
X-ALT-DESC;FMTTYPE=text/html:Stroll\, shop and discover at BoutiqueWalk - Holiday Open House 10 a.m. to 5 p.m. Saturday\, Nov. 12 at participating retailers throughout Downtown Charleston.&nbsp\;<br />\n<br />\nStop in downtown boutiques for in-store promotions\, trunk shows\, demos\, hands-on activities and more.&nbsp\;<br />\n<br />\nIncluded in the mix is a diverse group of shops\, boutiques\, art galleries and antique stores. The BoutiqueWalk Holiday Open House is coordinated by the Charleston Area Alliance.&nbsp\;&nbsp\;&nbsp\;&nbsp\;&nbsp\;&nbsp\;&nbsp\;&nbsp\;&nbsp\;&nbsp\;&nbsp\;&nbsp\;&nbsp\;&nbsp\;&nbsp\;&nbsp\;&nbsp\;
LOCATION:Participating stores throughout Downtown Charleston
UID:e.1499.1884
SEQUENCE:3
DTSTAMP:20260420T041235Z
URL:https://business.charlestonareaalliance.org/events/details/boutiquewalk-holiday-open-house-11-12-2016-1884
END:VEVENT

END:VCALENDAR
