BEGIN:VCALENDAR
VERSION:2.0
PRODID:-//ChamberMaster//Event Calendar 2.0//EN
METHOD:PUBLISH
X-PUBLISHED-TTL:P3D
REFRESH-INTERVAL:P3D
CALSCALE:GREGORIAN
BEGIN:VEVENT
DTSTART:20111208T050000Z
DTEND:20111208T050000Z
X-MICROSOFT-CDO-ALLDAYEVENT:FALSE
SUMMARY:BAH WV Power Park December 2011
DESCRIPTION:
X-ALT-DESC;FMTTYPE=text/html:
LOCATION:WV Power Park
UID:e.1499.436
SEQUENCE:3
DTSTAMP:20260424T174827Z
URL:https://business.charlestonareaalliance.org/events/details/bah-wv-power-park-december-2011-12-08-2011-436
END:VEVENT

END:VCALENDAR
