BEGIN:VCALENDAR
VERSION:2.0
PRODID:-//ChamberMaster//Event Calendar 2.0//EN
METHOD:PUBLISH
X-PUBLISHED-TTL:P3D
REFRESH-INTERVAL:P3D
CALSCALE:GREGORIAN
BEGIN:VEVENT
DTSTART:20101209T050000Z
DTEND:20101209T050000Z
X-MICROSOFT-CDO-ALLDAYEVENT:FALSE
SUMMARY:BAH Ramada Inn 2010
DESCRIPTION:
X-ALT-DESC;FMTTYPE=text/html:
LOCATION:Ramada Inn
UID:e.1499.347
SEQUENCE:3
DTSTAMP:20260425T102645Z
URL:https://business.charlestonareaalliance.org/events/details/bah-ramada-inn-2010-12-09-2010-347
END:VEVENT

END:VCALENDAR
