BEGIN:VCALENDAR
VERSION:2.0
PRODID:-//ChamberMaster//Event Calendar 2.0//EN
METHOD:PUBLISH
X-PUBLISHED-TTL:P3D
REFRESH-INTERVAL:P3D
CALSCALE:GREGORIAN
BEGIN:VEVENT
DTSTART:20111117T050000Z
DTEND:20111117T050000Z
X-MICROSOFT-CDO-ALLDAYEVENT:FALSE
SUMMARY:BAH Mardi Gras Casino and Resort 2011
DESCRIPTION:
X-ALT-DESC;FMTTYPE=text/html:
LOCATION:Mardi Gras Casino and Resort
UID:e.1499.411
SEQUENCE:3
DTSTAMP:20260424T184944Z
URL:https://business.charlestonareaalliance.org/events/details/bah-mardi-gras-casino-and-resort-2011-11-17-2011-411
END:VEVENT

END:VCALENDAR
