BEGIN:VCALENDAR
VERSION:2.0
PRODID:-//ChamberMaster//Event Calendar 2.0//EN
METHOD:PUBLISH
X-PUBLISHED-TTL:P3D
REFRESH-INTERVAL:P3D
CALSCALE:GREGORIAN
BEGIN:VEVENT
DTSTART:20101104T040000Z
DTEND:20101104T040000Z
X-MICROSOFT-CDO-ALLDAYEVENT:FALSE
SUMMARY:BAH Mardi Gras Casino and Resort 2010
DESCRIPTION:
X-ALT-DESC;FMTTYPE=text/html:
LOCATION:Mardi Gras Casino and Resort
UID:e.1499.378
SEQUENCE:3
DTSTAMP:20260425T103053Z
URL:https://business.charlestonareaalliance.org/events/details/bah-mardi-gras-casino-and-resort-2010-11-04-2010-378
END:VEVENT

END:VCALENDAR
