BEGIN:VCALENDAR
VERSION:2.0
PRODID:-//ChamberMaster//Event Calendar 2.0//EN
METHOD:PUBLISH
X-PUBLISHED-TTL:P3D
REFRESH-INTERVAL:P3D
CALSCALE:GREGORIAN
BEGIN:VEVENT
DTSTART:20111018T040000Z
DTEND:20111018T040000Z
X-MICROSOFT-CDO-ALLDAYEVENT:FALSE
SUMMARY:BAH Kanawha County Commission-Coonskin Park 2011
DESCRIPTION:
X-ALT-DESC;FMTTYPE=text/html:
LOCATION:Frances P. Johnson Golf Learning Center-Coonskin Park
UID:e.1499.416
SEQUENCE:3
DTSTAMP:20260424T205826Z
URL:https://business.charlestonareaalliance.org/events/details/bah-kanawha-county-commission-coonskin-park-2011-10-18-2011-416
END:VEVENT

END:VCALENDAR
