BEGIN:VCALENDAR
VERSION:2.0
PRODID:-//ChamberMaster//Event Calendar 2.0//EN
METHOD:PUBLISH
X-PUBLISHED-TTL:P3D
REFRESH-INTERVAL:P3D
CALSCALE:GREGORIAN
BEGIN:VEVENT
DTSTART:20110825T040000Z
DTEND:20110825T040000Z
X-MICROSOFT-CDO-ALLDAYEVENT:FALSE
SUMMARY:BAH Hampton Inn - Southridge 2011 Tailgate
DESCRIPTION:
X-ALT-DESC;FMTTYPE=text/html:
LOCATION:Hampton Inn - Southridge
UID:e.1499.400
SEQUENCE:3
DTSTAMP:20260424T220439Z
URL:https://business.charlestonareaalliance.org/events/details/bah-hampton-inn-southridge-2011-tailgate-08-25-2011-400
END:VEVENT

END:VCALENDAR
