BEGIN:VCALENDAR
VERSION:2.0
PRODID:-//ChamberMaster//Event Calendar 2.0//EN
METHOD:PUBLISH
X-PUBLISHED-TTL:P3D
REFRESH-INTERVAL:P3D
CALSCALE:GREGORIAN
BEGIN:VEVENT
DTSTART:20150514T210000Z
DTEND:20150515T000000Z
X-MICROSOFT-CDO-ALLDAYEVENT:FALSE
SUMMARY:BAH City National Bank May 2015
DESCRIPTION:Join City National Bank and the Charleston Area Alliance for one of the most anticipated Business Hours events of the year.  Don't miss the annual City National Block Party hosted in the bank parking lot on the corner of Hale and Virginia Streets. Don't miss this opportunity to network and enjoy the great summer weather with friends and colleagues. - See more at: http://charlestonareaalliance.chambermaster.com/Events/details/business-after-hours-may-2014-699\n\n\nJoin us for the City National Bank Annual Business After Hours Block Party 5-8 p.m.\, Thursday\, May 14 at the City National Bank Downtown Charleston Hale Street Office. \n\n\n\nThe City National Bank Block Party is Charleston's largest block party and great kick-off to summer. The event will feature an indoor and outdoor bar and food catered by the Bridge Road Bistro.  \n\n\n\nBusiness After Hours is the perfect way to start wrapping up a busy work week. The event offers social and networking opportunities in a casual atmosphere. The get-togethers are hosted by Charleston Area Alliance members.Registration for is $15 for Alliance members and $25 for future members.
X-ALT-DESC;FMTTYPE=text/html:<div id="stcpDiv" style="left: -1988px\; top: -1999px\; position: absolute\;">Join City National Bank and the Charleston Area Alliance for one of the most anticipated Business Hours events of the year.&nbsp\; Don&#39\;t miss the annual City National Block Party hosted in the bank parking lot on the corner of Hale and Virginia Streets. Don&#39\;t miss this opportunity to network and enjoy the great summer weather with friends and colleagues. - See more at: http://charlestonareaalliance.chambermaster.com/Events/details/business-after-hours-may-2014-699</div>\n\n<div style="color: gray\;">\n<p>Join us for the City National Bank Annual Business After Hours Block Party 5-8 p.m.\, Thursday\, May 14 at the City National Bank Downtown Charleston Hale Street Office.&nbsp\;<br />\n<br />\nThe City National Bank Block Party is&nbsp\;Charleston&#39\;s largest block party and&nbsp\;great kick-off to summer. The event will feature an indoor and outdoor bar and food catered by the Bridge Road Bistro. &nbsp\;<br />\n<br />\nBusiness After Hours is the perfect way to start wrapping up a busy work week.&nbsp\;The event offers social and networking opportunities in a casual atmosphere. The get-togethers are hosted by Charleston Area Alliance members.Registration for is $15 for Alliance members and $25 for future members.</p>\n</div>\n
LOCATION:City National Bank 10 Hale Street Charleston\, WV 25301 Parking lot is at the corner of Hale and Virginia Streets.
UID:e.1499.784
SEQUENCE:3
DTSTAMP:20260421T054618Z
URL:https://business.charlestonareaalliance.org/events/details/bah-city-national-bank-may-2015-05-14-2015-784
END:VEVENT

END:VCALENDAR
