BEGIN:VCALENDAR
VERSION:2.0
PRODID:-//ChamberMaster//Event Calendar 2.0//EN
METHOD:PUBLISH
X-PUBLISHED-TTL:P3D
REFRESH-INTERVAL:P3D
CALSCALE:GREGORIAN
BEGIN:VEVENT
DTSTART:20110512T040000Z
DTEND:20110512T040000Z
X-MICROSOFT-CDO-ALLDAYEVENT:FALSE
SUMMARY:BAH City National Bank May 2011
DESCRIPTION:
X-ALT-DESC;FMTTYPE=text/html:
LOCATION:City National Bank
UID:e.1499.402
SEQUENCE:3
DTSTAMP:20260425T024114Z
URL:https://business.charlestonareaalliance.org/events/details/bah-city-national-bank-may-2011-05-12-2011-402
END:VEVENT

END:VCALENDAR
