BEGIN:VCALENDAR
VERSION:2.0
PRODID:-//ChamberMaster//Event Calendar 2.0//EN
METHOD:PUBLISH
X-PUBLISHED-TTL:P3D
REFRESH-INTERVAL:P3D
CALSCALE:GREGORIAN
BEGIN:VEVENT
DTSTART:20100513T040000Z
DTEND:20100513T040000Z
X-MICROSOFT-CDO-ALLDAYEVENT:FALSE
SUMMARY:BAH City National Bank May 2010
DESCRIPTION:
X-ALT-DESC;FMTTYPE=text/html:
LOCATION:City National Bank
UID:e.1499.321
SEQUENCE:3
DTSTAMP:20260425T175655Z
URL:https://business.charlestonareaalliance.org/events/details/bah-city-national-bank-may-2010-05-13-2010-321
END:VEVENT

END:VCALENDAR
