BEGIN:VCALENDAR
VERSION:2.0
PRODID:-//ChamberMaster//Event Calendar 2.0//EN
METHOD:PUBLISH
X-PUBLISHED-TTL:P3D
REFRESH-INTERVAL:P3D
CALSCALE:GREGORIAN
BEGIN:VEVENT
DTSTART:20141016T220000Z
DTEND:20141017T010000Z
X-MICROSOFT-CDO-ALLDAYEVENT:FALSE
SUMMARY:ArtWalk - October 2014
DESCRIPTION:Downtown Charleston ArtWalk is celebrating 12 years as the Capitol City's premiere art event. This year promises to be even bigger\, better and more exciting than before.\n\n\n\nWatch Alliance e-blast announcements for the newest ArtWalk participants. The e-blasts also detail exhibit and display information for participating ArtWalk locations to help you identify what to look for on each month's tour.\n\n\n\nNot on our Eblast list? Click here to Sign up for eblasts
X-ALT-DESC;FMTTYPE=text/html:<p>Downtown Charleston ArtWalk is celebrating 12 years as the Capitol City&#39\;s premiere art event. This year promises to be even bigger\, better and more exciting than before.<br />\n<br />\nWatch Alliance e-blast announcements for the newest ArtWalk participants. The e-blasts also detail exhibit and display information for participating ArtWalk locations to help you identify what to look for on each month&#39\;s tour.<br />\n<br />\nNot on our Eblast list? Click here to <span style="font-size: 12pt\;"><span style="font-family: times new roman\, serif\;"><a href="http://t.democracydirect.com/?ti_dn__=a8575d2c-9b93-4e84-a5b2-f44dc834bce5&amp\;__u_idz=ec0a7f23-1a27-4757-a314-44d56c9b8ee0&amp\;__turl=http%3a%2f%2fwww.capitolconnect.com%2fcharleston%2fregister.aspx" target="_blank"><span style="font-size: 9pt\;"><span style="font-family: arial\, sans-serif\;"><span style="color: rgb(0\, 0\, 255)\;">Sign up for eblasts</span></span></span></a></span></span>&nbsp\;<br />\n<br />\n&nbsp\;</p>\n
LOCATION:Downtown Charleston
UID:e.1499.732
SEQUENCE:3
DTSTAMP:20260421T131807Z
URL:https://business.charlestonareaalliance.org/events/details/artwalk-october-2014-10-16-2014-732
END:VEVENT

END:VCALENDAR
