BEGIN:VCALENDAR
VERSION:2.0
PRODID:-//ChamberMaster//Event Calendar 2.0//EN
METHOD:PUBLISH
X-PUBLISHED-TTL:P3D
REFRESH-INTERVAL:P3D
CALSCALE:GREGORIAN
BEGIN:VEVENT
DTSTART:20131017T210000Z
DTEND:20131018T000000Z
X-MICROSOFT-CDO-ALLDAYEVENT:FALSE
SUMMARY:ArtWalk - October 2013
DESCRIPTION:Downtown Charleston ArtWalk is celebrating 11 years as the Capitol City's premiere art event. This year promises to be even bigger\, better and more exciting than before.\n\n	\n\n	Watch Alliance Eblast announcements for the newest ArtWalk participants as well as the featured "Restaurant of the Month"! The Eblasts also detail exhibit and display information for participating ArtWalk locations to help you identify what to look for on each month's tour.\n\n	\n\n	Not on our Eblast list? Click here to Sign up for eblasts \n\n	\n\n	Need a copy of the latest ArtWalk map?  Click Here!
X-ALT-DESC;FMTTYPE=text/html:<p>\n	Downtown Charleston ArtWalk is celebrating 11 years as the Capitol City&#39\;s premiere art event. This year promises to be even bigger\, better and more exciting than before.<br />\n	<br />\n	Watch Alliance Eblast announcements for the newest ArtWalk participants as well as the featured &quot\;Restaurant of the Month&quot\;! The Eblasts also detail exhibit and display information for participating ArtWalk locations to help you identify what to look for on each month&#39\;s tour.<br />\n	<br />\n	Not on our Eblast list? Click here to <span style="font-size: 12pt\;"><span style="font-family: times new roman\, serif\;"><a href="http://t.democracydirect.com/?ti_dn__=a8575d2c-9b93-4e84-a5b2-f44dc834bce5&amp\;__u_idz=ec0a7f23-1a27-4757-a314-44d56c9b8ee0&amp\;__turl=http%3a%2f%2fwww.capitolconnect.com%2fcharleston%2fregister.aspx" target="_blank"><span style="font-size: 9pt\;"><span style="font-family: arial\, sans-serif\;"><span style="color: rgb(0\, 0\, 255)\;">Sign up for eblasts</span></span></span></a></span></span>&nbsp\;<br />\n	<br />\n	Need a copy of the latest ArtWalk map?&nbsp\; <a href="http://t.democracydirect.com/?ti_dn__=0d75027c-33fa-4ca4-8573-b43175b6a94c&amp\;__u_idz=ec0a7f23-1a27-4757-a314-44d56c9b8ee0&amp\;__turl=http%3a%2f%2fwww.charlestonareaalliance.org%2fshared%2fcontent%2fArtWalk-Map-July20123%2520copy.jpg">Click Here!</a></p>\n
LOCATION:Downtown Charleston Click here to download a current map for ArtWalk
UID:e.1499.537
SEQUENCE:3
DTSTAMP:20260422T035623Z
URL:https://business.charlestonareaalliance.org/events/details/artwalk-october-2013-10-17-2013-537
END:VEVENT

END:VCALENDAR
