BEGIN:VCALENDAR
VERSION:2.0
PRODID:-//ChamberMaster//Event Calendar 2.0//EN
METHOD:PUBLISH
X-PUBLISHED-TTL:P3D
REFRESH-INTERVAL:P3D
CALSCALE:GREGORIAN
BEGIN:VEVENT
DTSTART:20150521T210000Z
DTEND:20150522T000000Z
X-MICROSOFT-CDO-ALLDAYEVENT:FALSE
SUMMARY:ArtWalk - May 2015
DESCRIPTION:Downtown Charleston ArtWalk
X-ALT-DESC;FMTTYPE=text/html:Downtown Charleston ArtWalk
LOCATION:Now in its 13th year\, Downtown Charleston ArtWalk is a free self-guided walking tour of Charleston's shops\, galleries and businesses featuring regional art and performances. Typically held the third Thursday of each month\, participating shops and organizations extend their hours for browsing\, shopping and mingling. For details about this month's ArtWalk\, visit the Downtown Charleston ArtWalk website for the monthly participating venue map. Participating shops are located in Downtown Charleston and feature a variety of art from paintings and sculptures to photography and music. Attendees can stroll along at their own pace\, dip in and out of stores and stop off along the way for a bite to eat at a downtown restaurant. This well-loved family-friendly event takes place from 5 to 8 p.m. and attracts art aficionados as well as folks who just want to get out and try something new. For more information\, visit www.artwalkcwv.com.
UID:e.1499.763
SEQUENCE:3
DTSTAMP:20260421T041839Z
URL:https://business.charlestonareaalliance.org/events/details/artwalk-may-2015-763
END:VEVENT

END:VCALENDAR
