BEGIN:VCALENDAR
VERSION:2.0
PRODID:-//ChamberMaster//Event Calendar 2.0//EN
METHOD:PUBLISH
X-PUBLISHED-TTL:P3D
REFRESH-INTERVAL:P3D
CALSCALE:GREGORIAN
BEGIN:VEVENT
DTSTART:20170316T210000Z
DTEND:20170317T000000Z
X-MICROSOFT-CDO-ALLDAYEVENT:FALSE
SUMMARY:ArtWalk - March 2017
DESCRIPTION:Celebrating its 15th year\, Downtown Charleston ArtWalk is a free self-guided walking tour of Charleston's shops\, galleries and businesses featuring regional art and performances. Typically held the third Thursday of each month\, participating shops and organizations extend their hours for browsing\, shopping and mingling.\n\n\n\nFor details about this month's ArtWalk\, visit the Downtown Charleston ArtWalk website for the monthly participating venue map. Participating shops are located in Downtown Charleston and feature a variety of art   from paintings and sculptures to photography and music.\n\n\n\nAttendees can stroll along at their own pace\, dip in and out of stores and stop off along the way for a bite to eat at a downtown restaurant. This well-loved family-friendly event takes place from 5 to 8 p.m. and attracts art aficionados as well as folks who just want to get out and try something new. \n\n\n\nFor more information\, visit www.artwalkcwv.com. ArtWalk is sponsored by the Masters Law Firm.
X-ALT-DESC;FMTTYPE=text/html:<span style="background-color:#ffffff\;"><span style="font-size:13px\;"><span style="font-family:sans-serif\,arial\,verdana\,trebuchet ms\;"><span style="color:#333333\;">Celebrating its 15th year\, Downtown Charleston&nbsp\;</span></span></span></span><span data-scayt-lang="en_US" data-scayt-word="ArtWalk" style="padding-bottom:0px\;display:inline\;background:url(&quot\;waveline.gif&quot\;) 52% 100% repeat-x rgb(255\, 255\, 255)\;"><span style="font-size:13px\;"><span style="font-family:sans-serif\,arial\,verdana\,trebuchet ms\;"><span style="color:#333333\;">ArtWalk</span></span></span></span><span style="background-color:#ffffff\;"><span style="font-size:13px\;"><span style="font-family:sans-serif\,arial\,verdana\,trebuchet ms\;"><span style="color:#333333\;">&nbsp\;is a free self-guided walking tour of Charleston&rsquo\;s shops\, galleries and businesses featuring regional art and performances. Typically held the third Thursday of each month\, participating shops and organizations extend their hours for browsing\, shopping and mingling.</span></span></span></span><br style="color:rgb(51\, 51\, 51)\;font-family:sans-serif\, Arial\, Verdana\, Trebuchet MS\;font-size:13px\;line-height:18.2px\;" />\n<br style="color:rgb(51\, 51\, 51)\;font-family:sans-serif\, Arial\, Verdana\, Trebuchet MS\;font-size:13px\;line-height:18.2px\;" />\n<span style="background-color:#ffffff\;"><span style="font-size:13px\;"><span style="font-family:sans-serif\,arial\,verdana\,trebuchet ms\;"><span style="color:#333333\;">For details about this month&#39\;s&nbsp\;</span></span></span></span><span data-scayt-lang="en_US" data-scayt-word="ArtWalk" style="padding-bottom:0px\;display:inline\;background:url(&quot\;waveline.gif&quot\;) 52% 100% repeat-x rgb(255\, 255\, 255)\;"><span style="font-size:13px\;"><span style="font-family:sans-serif\,arial\,verdana\,trebuchet ms\;"><span style="color:#333333\;">ArtWalk</span></span></span></span><span style="background-color:#ffffff\;"><span style="font-size:13px\;"><span style="font-family:sans-serif\,arial\,verdana\,trebuchet ms\;"><span style="color:#333333\;">\, visit the Downtown Charleston&nbsp\;</span></span></span></span><span data-scayt-lang="en_US" data-scayt-word="ArtWalk" style="padding-bottom:0px\;display:inline\;background:url(&quot\;waveline.gif&quot\;) 52% 100% repeat-x rgb(255\, 255\, 255)\;"><span style="font-size:13px\;"><span style="font-family:sans-serif\,arial\,verdana\,trebuchet ms\;"><span style="color:#333333\;">ArtWalk</span></span></span></span><span style="background-color:#ffffff\;"><span style="font-size:13px\;"><span style="font-family:sans-serif\,arial\,verdana\,trebuchet ms\;"><span style="color:#333333\;">&nbsp\;website for the monthly participating venue map. Participating shops are located&nbsp\;in Downtown Charleston and feature a variety of art &ndash\; from paintings and sculptures to photography and music.</span></span></span></span><br style="color:rgb(51\, 51\, 51)\;font-family:sans-serif\, Arial\, Verdana\, Trebuchet MS\;font-size:13px\;line-height:18.2px\;" />\n<br style="color:rgb(51\, 51\, 51)\;font-family:sans-serif\, Arial\, Verdana\, Trebuchet MS\;font-size:13px\;line-height:18.2px\;" />\n<span style="background-color:#ffffff\;"><span style="font-size:13px\;"><span style="font-family:sans-serif\,arial\,verdana\,trebuchet ms\;"><span style="color:#333333\;">Attendees can stroll along at their own pace\, dip in and out of stores and stop off along the way for a bite to eat at a downtown restaurant. This well-loved family-friendly event takes place from 5 to 8 p.m. and attracts art aficionados as well as folks who just want to get out and try something new.&nbsp\;</span></span></span></span><br style="color:rgb(51\, 51\, 51)\;font-family:sans-serif\, Arial\, Verdana\, Trebuchet MS\;font-size:13px\;line-height:18.2px\;" />\n<br style="color:rgb(51\, 51\, 51)\;font-family:sans-serif\, Arial\, Verdana\, Trebuchet MS\;font-size:13px\;line-height:18.2px\;" />\n<span style="background-color:#ffffff\;"><span style="font-size:13px\;"><span style="font-family:sans-serif\,arial\,verdana\,trebuchet ms\;"><span style="color:#333333\;">For more information\, visit&nbsp\;</span></span></span></span><a href="http://www.artwalkcwv.com" style="color:rgb(7\, 130\, 193)\;font-family:sans-serif\, Arial\, Verdana\, Trebuchet MS\;font-size:13px\;line-height:18.2px\;">www.artwalkcwv.com</a><span style="background-color:#ffffff\;"><span style="font-size:13px\;"><span style="font-family:sans-serif\,arial\,verdana\,trebuchet ms\;"><span style="color:#333333\;">.&nbsp\;</span></span></span></span><span data-scayt-lang="en_US" data-scayt-word="ArtWalk" style="padding-bottom:0px\;display:inline\;background:url(&quot\;waveline.gif&quot\;) 52% 100% repeat-x rgb(255\, 255\, 255)\;"><span style="font-size:13px\;"><span style="font-family:sans-serif\,arial\,verdana\,trebuchet ms\;"><span style="color:#333333\;">ArtWalk</span></span></span></span><span style="background-color:#ffffff\;"><span style="font-size:13px\;"><span style="font-family:sans-serif\,arial\,verdana\,trebuchet ms\;"><span style="color:#333333\;">&nbsp\;is sponsored by the Masters Law Firm.&nbsp\;</span></span></span></span>
LOCATION:Downtown Charleston. Check monthly map for participating venues.
UID:e.1499.1903
SEQUENCE:3
DTSTAMP:20260419T224945Z
URL:https://business.charlestonareaalliance.org/events/details/artwalk-march-2017-1903
END:VEVENT

END:VCALENDAR
