BEGIN:VCALENDAR
VERSION:2.0
PRODID:-//ChamberMaster//Event Calendar 2.0//EN
METHOD:PUBLISH
X-PUBLISHED-TTL:P3D
REFRESH-INTERVAL:P3D
CALSCALE:GREGORIAN
BEGIN:VEVENT
DTSTART:20170622T210000Z
DTEND:20170623T000000Z
X-MICROSOFT-CDO-ALLDAYEVENT:FALSE
SUMMARY:ArtWalk - FestivALL June 2017
DESCRIPTION:Celebrating its 15th year\, Downtown Charleston ArtWalk is a free self-guided walking tour of Charleston's shops\, galleries and businesses featuring regional art and performances. This special FestivALL edition of ArtWalk will feature musical performances and theatrical presentations along the sidewalk and Musical Easels\, a rotating artists exhibit. \n\n\n\nFor details about this month's ArtWalk\, visit the Downtown Charleston ArtWalk website for the monthly participating venue map. Participating shops are located in Downtown Charleston and feature a variety of art   from paintings and sculptures to photography and music.\n\n\n\nAttendees can stroll along at their own pace\, dip in and out of stores and stop off along the way for a bite to eat at a downtown restaurant. This well-loved family-friendly event takes place from 5 to 8 p.m. and attracts art aficionados as well as folks who just want to get out and try something new. \n\n\n\nFor more information\, visit www.artwalkcwv.com. ArtWalk is sponsored by the Masters Law Firm.
X-ALT-DESC;FMTTYPE=text/html:<p>Celebrating its&nbsp\;15th&nbsp\;year\, Downtown Charleston&nbsp\;ArtWalk&nbsp\;is a free self-guided walking tour of Charleston&rsquo\;s shops\, galleries and businesses featuring regional art and performances. This special&nbsp\;FestivALL&nbsp\;edition of&nbsp\;ArtWalk&nbsp\;will feature musical performances and theatrical&nbsp\;presentations along the sidewalk and Musical Easels\, a&nbsp\;rotating&nbsp\;artists exhibit.&nbsp\;<br />\n<br />\nFor details about this month&#39\;s&nbsp\;ArtWalk\, visit the Downtown Charleston&nbsp\;ArtWalk&nbsp\;website for the monthly participating venue map. Participating shops are located&nbsp\;in Downtown Charleston and feature a variety of art &ndash\; from paintings and sculptures to photography and music.<br />\n<br />\nAttendees can stroll along at their own pace\, dip in and out of stores and stop off along the way for a bite to eat at a downtown restaurant. This well-loved family-friendly event takes place from 5 to 8 p.m. and attracts art aficionados as well as folks who just want to get out and try something new.&nbsp\;<br />\n<br />\nFor more information\, visit&nbsp\;www.artwalkcwv.com.&nbsp\;ArtWalk&nbsp\;is sponsored by the Masters Law Firm.&nbsp\;</p>\n
LOCATION:Downtown Charleston. Check monthly map for participating venues.
UID:e.1499.1906
SEQUENCE:3
DTSTAMP:20260419T190517Z
URL:https://business.charlestonareaalliance.org/events/details/artwalk-festivall-june-2017-1906
END:VEVENT

END:VCALENDAR
