BEGIN:VCALENDAR
VERSION:2.0
PRODID:-//ChamberMaster//Event Calendar 2.0//EN
METHOD:PUBLISH
X-PUBLISHED-TTL:P3D
REFRESH-INTERVAL:P3D
CALSCALE:GREGORIAN
BEGIN:VEVENT
DTSTART:20151127T220000Z
DTEND:20151128T010000Z
X-MICROSOFT-CDO-ALLDAYEVENT:FALSE
SUMMARY:ArtWalk - Black Friday/November 2015
DESCRIPTION:Downtown Charleston ArtWalk - FestivALL/June 2015
X-ALT-DESC;FMTTYPE=text/html:Downtown Charleston ArtWalk - FestivALL/June 2015
LOCATION:Now in its 13th year\, Downtown Charleston ArtWalk is a free self-guided walking tour of Charleston's shops\, galleries and businesses featuring regional art and performances. This month is Friday\, Nov. 27\, the day after Thanksgiving\, which varies from the event's typical third Thursday of the month schedule. For details about this month's ArtWalk\, visit the Downtown Charleston ArtWalk website for the monthly participating venue map. Participating shops are located in Downtown Charleston and feature a variety of art from paintings and sculptures to photography and music. Attendees can stroll along at their own pace\, dip in and out of stores and stop off along the way for a bite to eat at a downtown restaurant. This well-loved family-friendly event takes place from 5 to 8 p.m. and attracts art aficionados as well as folks who just want to get out and try something new. For more information\, visit www.artwalkcwv.com.
UID:e.1499.769
SEQUENCE:3
DTSTAMP:20260420T200710Z
URL:https://business.charlestonareaalliance.org/events/details/artwalk-black-friday-november-2015-769
END:VEVENT

END:VCALENDAR
