BEGIN:VCALENDAR
VERSION:2.0
PRODID:-//ChamberMaster//Event Calendar 2.0//EN
METHOD:PUBLISH
X-PUBLISHED-TTL:P3D
REFRESH-INTERVAL:P3D
CALSCALE:GREGORIAN
BEGIN:VEVENT
DTSTART:20171102T180000Z
DTEND:20171102T190000Z
X-MICROSOFT-CDO-ALLDAYEVENT:FALSE
SUMMARY:Armstrong Insurance Group Ribbon Cutting
DESCRIPTION:Armstrong Insurance Group\, an American National insurance agency\, will celebrate its opening with a ribbon cutting at 2 p.m. Thursday\, Nov. 2 at the agency\, located at 5035 Elk River Rd. S. in Elkview.\n\n\n\nKay Armstrong\, an insurance industry professional\, matches customers with the proper coverages for their lifestyles. Armstrong and her customer service team can help customers with auto insurance as well as homeowners\, renters\, motorcycle\, umbrella\, RV insurance and more forms of insurance.\n\n \n\n"We're eager to bring competitively priced insurance products to the region\," said Armstrong. "We look forward to offering competitive rates with a personal touch to those not only living in Elkview\, but the entire Kanawha Valley."\n\n \n\nArmstrong and the office's experienced customer service representative Rosalie Lipscomb understand the unique insurance needs of area residents.\n\n \n\nArmstrong Insurance Group offers a comprehensive portfolio of insurance products and services\, all of which can be tailored to meet the customer's unique needs. American National offers typical products like auto insurance\, home insurance and life insurance\, as well as more specialized coverage like classic auto insurance and watercraft insurance.\n\n \n\nLicensed in West Virginia\, Kentucky and Ohio\, Armstrong offers multi-line discounts to policyholders\, as well as additional savings for those who are members of certain professional or educational associations.\n\n \n\nWeekday hours for Armstrong Insurance Group are 8:30 a.m. to 5 p.m.\, and evenings and weekends by appointment. To get a quote or learn more about Armstrong Insurance Group visit https://mlagents.americannational.com/kayarmstrong-16882/ or call 304-382-1099.\n\n \n\nAmerican National Insurance Company (American National)\, headquartered in Galveston\, Texas\, was founded in 1905 and is licensed in all states except New York. American National and its subsidiaries offer a broad line of products and services\, which include life insurance\, annuities\, health insurance\, credit insurance\, pension products\, and property and casualty insurance for personal lines\, agribusiness and certain commercial exposures. American National companies operate in all 50 states.
X-ALT-DESC;FMTTYPE=text/html:Armstrong Insurance Group\, an American National insurance agency\, will celebrate its opening with a ribbon cutting at 2 p.m. Thursday\, Nov. 2 at the agency\, located at 5035 Elk River Rd. S. in Elkview.<br />\n<br />\nKay Armstrong\, an insurance industry professional\, matches customers with the proper coverages for their lifestyles. Armstrong and her customer service team can help customers with auto insurance as well as homeowners\, renters\, motorcycle\, umbrella\, RV insurance and more forms of insurance.<br />\n&nbsp\;<br />\n&ldquo\;We&rsquo\;re eager to bring competitively priced insurance products to the region\,&rdquo\; said Armstrong. &ldquo\;We look forward to offering competitive rates with a personal touch to those not only living in Elkview\, but the entire Kanawha Valley.&rdquo\;<br />\n&nbsp\;<br />\nArmstrong and the office&rsquo\;s experienced customer service representative Rosalie Lipscomb understand the unique insurance needs of area residents.<br />\n&nbsp\;<br />\nArmstrong Insurance Group offers a comprehensive portfolio of insurance products and services\, all of which can be tailored to meet the customer&rsquo\;s unique needs. American National offers typical products like&nbsp\;auto insurance\,&nbsp\;home insurance and&nbsp\;life insurance\, as well as more specialized coverage like&nbsp\;classic auto insurance and&nbsp\;watercraft insurance.<br />\n&nbsp\;<br />\nLicensed in West Virginia\, Kentucky and Ohio\, Armstrong offers multi-line discounts to policyholders\, as well as additional savings for those who are members of certain professional or educational associations.<br />\n&nbsp\;<br />\nWeekday hours for Armstrong Insurance Group are 8:30 a.m. to 5 p.m.\, and evenings and weekends by appointment. To get a quote or learn more about Armstrong Insurance Group visit https://mlagents.americannational.com/kayarmstrong-16882/&nbsp\;or call&nbsp\;304-382-1099.<br />\n&nbsp\;<br />\nAmerican National Insurance Company (American National)\, headquartered in Galveston\, Texas\, was founded in 1905 and is licensed in all states except New York. American National and its subsidiaries offer a broad line of products and services\, which include life insurance\, annuities\, health insurance\, credit insurance\, pension products\, and property and casualty insurance for personal lines\, agribusiness and certain commercial exposures. American National companies operate in all 50 states.
LOCATION:Armstrong Insurance Group 5035 Elk River Rd. S. Elkview\, WV
UID:e.1499.1975
SEQUENCE:3
DTSTAMP:20260419T140338Z
URL:https://business.charlestonareaalliance.org/events/details/armstrong-insurance-group-ribbon-cutting-1975
END:VEVENT

END:VCALENDAR
