BEGIN:VCALENDAR
VERSION:2.0
PRODID:-//ChamberMaster//Event Calendar 2.0//EN
METHOD:PUBLISH
X-PUBLISHED-TTL:P3D
REFRESH-INTERVAL:P3D
CALSCALE:GREGORIAN
BEGIN:VEVENT
DTSTART:20101019T040000Z
DTEND:20101019T040000Z
X-MICROSOFT-CDO-ALLDAYEVENT:FALSE
SUMMARY:Annual & Board of Directors meeting 2010
DESCRIPTION:
X-ALT-DESC;FMTTYPE=text/html:
LOCATION:Charleston Area Alliance
UID:e.1499.372
SEQUENCE:3
DTSTAMP:20260425T115651Z
URL:https://business.charlestonareaalliance.org/events/details/annual-board-of-directors-meeting-2010-10-19-2010-372
END:VEVENT

END:VCALENDAR
