BEGIN:VCALENDAR
VERSION:2.0
PRODID:-//ChamberMaster//Event Calendar 2.0//EN
METHOD:PUBLISH
X-PUBLISHED-TTL:P3D
REFRESH-INTERVAL:P3D
CALSCALE:GREGORIAN
BEGIN:VEVENT
DTSTART:20170425T203000Z
DTEND:20170425T230000Z
X-MICROSOFT-CDO-ALLDAYEVENT:FALSE
SUMMARY:Advanced Physical Therapy Ribbon Cutting
DESCRIPTION:Advanced Physical Therapy will mark the opening of their new location at 4301 MacCorkle Ave\, S.E. with a ribbon cutting at 4:30 p.m. Tuesday\, April 25.\n\n \n\n"We'd like to thank Advanced Physical Therapy for its investment in the Kanawha Valley and congratulate the rehabilitation center on its new location\," said Matt Ballard\, CEO of the Charleston Area Alliance. "We look forward to Advanced Physical Therapy's continued growth throughout the region."\n\n \n\nAdvanced Physical Therapy offers physical therapy\, sports medicine and rehabilitation needs\, providing progressive\, evidence-based rehabilitation at the cutting edge of physical therapy.\n\n \n\nIn conjunction with the ribbon cutting ceremony\, there will be an open house 4-7 p.m. with demonstrations of rock tape applications\, dry needling\, sports metrics jump training\, rock black techniques. Attendees can also learn more about Advanced Physical Therapy's community outreach\, including Big and Loud\, Delay the Disease and Rock Steady Boxing for Parkinson's disease. There will also be gift card drawing every 30 minutes during the open house.
X-ALT-DESC;FMTTYPE=text/html:Advanced Physical Therapy will mark the opening of their new location at 4301 MacCorkle Ave\, S.E. with a ribbon cutting at 4:30 p.m. Tuesday\, April 25.<br />\n&nbsp\;<br />\n&ldquo\;We&rsquo\;d like to thank Advanced Physical Therapy for its investment in the Kanawha Valley and congratulate the rehabilitation center on its new location\,&rdquo\; said Matt Ballard\, CEO of the Charleston Area Alliance. &ldquo\;We look forward to Advanced Physical Therapy&rsquo\;s continued growth throughout the region.&rdquo\;<br />\n&nbsp\;<br />\nAdvanced Physical Therapy offers physical therapy\, sports medicine and rehabilitation needs\, providing progressive\, evidence-based rehabilitation at the cutting edge of physical therapy.<br />\n&nbsp\;<br />\nIn conjunction with the ribbon cutting ceremony\, there will be an open house 4-7 p.m. with demonstrations of rock tape applications\, dry needling\, sports metrics jump training\, rock black techniques. Attendees can also learn more about Advanced Physical Therapy&rsquo\;s community outreach\, including Big and Loud\, Delay the Disease and Rock Steady Boxing for Parkinson&rsquo\;s disease. There will also be gift card drawing every 30 minutes during the open house.<br />\n&nbsp\;
LOCATION:4301 MacCorkle Ave. S.E.\, Charleston\, WV
UID:e.1499.1933
SEQUENCE:3
DTSTAMP:20260419T214414Z
URL:https://business.charlestonareaalliance.org/events/details/advanced-physical-therapy-ribbon-cutting-1933
END:VEVENT

END:VCALENDAR
