BEGIN:VCALENDAR
VERSION:2.0
PRODID:-//ChamberMaster//Event Calendar 2.0//EN
METHOD:PUBLISH
X-PUBLISHED-TTL:P3D
REFRESH-INTERVAL:P3D
CALSCALE:GREGORIAN
BEGIN:VEVENT
DTSTART:20170925T140000Z
DTEND:20170925T210000Z
X-MICROSOFT-CDO-ALLDAYEVENT:FALSE
SUMMARY:2017 Annual Golf Scramble
DESCRIPTION:Tee up for the Charleston Area Alliance 2017 Annual Golf Scramble   a day filled with 18 holes of golf and plenty of networking opportunities. Presented with title sponsorship from United Bank\, the Annual Golf Scramble supports the Alliance's mission of building a more vibrant community and prosperous economy.\n\n\n\nThe Annual Golf Scramble brings together approximately 120 players and supports the Alliance's job creation and community enhancement programs. A wide variety of business professionals and young talent from across the Kanawha Valley join us on the course.  \n\n\n\nGather your foursome and register today. This year's golf scramble will feature a hole-in-one challenge and many other exciting contests.\n\n\n\nRegistration \n\nFour-Player Scramble Team: $600\n\nIndividual: $150\n\n\n\nRegistration fees increase to $800 for Four-Player Scramble Team and $250 for Individuals at 9 a.m. Sept. 21. \n\nExclusive Golf Scramble sponsorship opportunities expand your reach and expose your company to Kanawha County business and community leaders. Click here  for 2017 Golf Scramble Sponsorship Opportunities. \n\n\n\nCancelation refunds cannot be issued within one week of scheduled event.
X-ALT-DESC;FMTTYPE=text/html:<p>Tee up for the Charleston Area Alliance 2017 Annual Golf Scramble <span style="font-family: arial narrow\,sans-serif\;"><span style="font-size: 11pt\;">&ndash\;</span></span> a day filled with 18 holes of golf and plenty of networking opportunities. Presented with title sponsorship from United Bank\, the Annual Golf Scramble supports the Alliance&#39\;s mission of building a more vibrant community and prosperous economy.<br />\n<br />\nThe Annual Golf Scramble brings together approximately 120 players and supports the Alliance&rsquo\;s&nbsp\;job creation and community enhancement programs.&nbsp\;A wide variety of business professionals and young talent from across the Kanawha Valley join us on the course.&nbsp\;&nbsp\;<br />\n<br />\nGather your foursome and register today. This year&#39\;s golf scramble will feature a hole-in-one challenge and many other exciting contests.<br />\n<br />\n<strong>Registration&nbsp\;</strong><br />\nFour-Player Scramble Team: $600<br />\nIndividual: $150<br />\n<br />\nRegistration fees increase to $800 for Four-Player Scramble Team and $250 for Individuals at 9 a.m. Sept. 21.&nbsp\;</p>\n\n<p>Exclusive Golf Scramble sponsorship opportunities expand your reach and expose your company to Kanawha&nbsp\;County business and community leaders. <a href="https://chambermaster.blob.core.windows.net/userfiles/UserFiles/chambers/1499/File/AllianceGolfRegistrationSponsorship.pdf">Click here</a> &nbsp\;for 2017 Golf Scramble Sponsorship Opportunities.&nbsp\;<br />\n<br />\nCancelation refunds cannot be issued within one week of scheduled event.</p>\n
LOCATION:Berry Hills Country Club 1 Berry Hills Road Charleston\, WV
UID:e.1499.1936
SEQUENCE:3
DTSTAMP:20260419T151804Z
URL:https://business.charlestonareaalliance.org/events/details/2017-annual-golf-scramble-1936
END:VEVENT

END:VCALENDAR
