BEGIN:VCALENDAR
VERSION:2.0
PRODID:-//ChamberMaster//Event Calendar 2.0//EN
METHOD:PUBLISH
X-PUBLISHED-TTL:P3D
REFRESH-INTERVAL:P3D
CALSCALE:GREGORIAN
BEGIN:VEVENT
DTSTART:20150217T220000Z
DTEND:20150218T010000Z
X-MICROSOFT-CDO-ALLDAYEVENT:FALSE
SUMMARY:2015 Annual Celebration
DESCRIPTION:Save the date for the "Business Event of the Year" on Tuesday\, Feb. 17.\n\n\n\nThe 2015 Charleston Area Alliance Annual Celebration will feature an inspiring and fast-paced program followed by a spectacular reception with live music   all in a beautiful setting showcasing the Mountain State's future.\n\n\n\nThe event's keynote speaker will be E. Gordon Gee\, president of West Virginia University.\n\n\n\nAt the Annual Celebration\, Gee will discuss local and global education challenges and opportunities\, as well as current and future goals for WVU.\n\n\n\nThe West Virginia Culture Center will be the setting for this yearly celebration of the Alliance's accomplishments.\n\n\n\nPresented by title sponsor Jackson Kelly PLLC\, the Annual Celebration will feature a\n\nformal program followed by a lively reception in the Culture Center's stunning lobby.\n\n\n\nThe full schedule includes:\n\n \n\nVIP Sponsor Reception (invitation only):  \n\n5:00-5:45 p.m.\n\n\n\nAnnual Celebration Program:\n\n5:45-6:45 p.m.\n\n\n\nGala Reception:  \n\n6:45-7:45 p.m.\n\n\n\nRegistration is $100 Alliance members/$150 future members. Prices increase to $200 Alliance members/$250 future members after Feb. 10 at 5 p.m.\n\n\n\nDuring the reception\, patrons will be entertained by the musical stylings of The Pennington Project Band.\n\n\n\n"The Annual Celebration\, the Alliance's largest event fundraiser of the year\, is a must attend event\, " said Alliance President/CEO Matt Ballard. "Attending allows you to join the more than 500 business and community leaders who will attend.\n\n\n\n"In addition to President Gee's keynote\, the Alliance will provide a short presentation on the progress and future of our work and our 20 year economic plan\, Vision 2030.  If you want to know what is going on in your community and you want to network with the top business leaders in the region\, you won't miss this event\," said Ballard.\n\n\n\nSponsorships\, which include an extensive package of recognition opportunities\, also are available. For sponsorship information\, contact Jeri Adkins\, JAdkins@charlestonareaalliance.org.\n\n\n\nWe are unable to invoice for groups with fewer than 10 or issue refunds for cancellations received less than 48 hours prior to the event. Thank you.\n\n\n\nIf you are unable to view this e-mail\, please view it at www.AllianceBlog.org.
X-ALT-DESC;FMTTYPE=text/html:<br />\nSave the date for the &quot\;Business Event of the Year&quot\; on Tuesday\, Feb. 17.<br />\n<br />\nThe 2015 Charleston Area Alliance Annual Celebration will feature an inspiring and fast-paced program followed by a spectacular reception with live music &ndash\; all in a beautiful setting showcasing the Mountain State&#39\;s future.<br />\n<br />\nThe event&#39\;s keynote speaker will be E. Gordon Gee\, president of West Virginia University.<br />\n<br />\nAt the Annual Celebration\, Gee will discuss local and global education challenges and opportunities\, as well as current and future goals for WVU.<br />\n<br />\nThe West Virginia Culture Center will be the setting for this yearly celebration of the Alliance&#39\;s accomplishments.<br />\n<br />\nPresented by title sponsor Jackson Kelly PLLC\, the Annual Celebration will feature a<br />\nformal program followed by a lively reception in the Culture Center&#39\;s stunning lobby.<br />\n<br />\nThe full schedule includes:<br />\n&nbsp\;<br />\nVIP Sponsor Reception (invitation only): &nbsp\;<br />\n<strong>5:00-5:45 p.m.</strong><br />\n<br />\nAnnual Celebration Program:<br />\n<strong>5:45-6:45 p.m.</strong><br />\n<br />\nGala Reception: &nbsp\;<br />\n<strong>6:45-7:45 p.m.</strong><br />\n<br />\nRegistration is $100 Alliance members/$150 future members. Prices increase to $200 Alliance members/$250 future members after Feb. 10 at 5 p.m.<br />\n<br />\nDuring the reception\, patrons will be entertained by the musical stylings of The Pennington Project Band.<br />\n<br />\n&ldquo\;The Annual Celebration\, the Alliance&rsquo\;s largest event fundraiser of the year\, is a must attend event\, &quot\; said Alliance President/CEO Matt Ballard. &quot\;Attending allows you to join the more than 500 business and community leaders who will attend.<br />\n<br />\n&quot\;In addition to President Gee&rsquo\;s keynote\, the Alliance will provide a short presentation on the progress and future of our work and our 20 year economic plan\, Vision 2030.&nbsp\; If you want to know what is going on in your community and you want to network with the top business leaders in the region\, you won&rsquo\;t miss this event\,&rdquo\; said Ballard.<br />\n<br />\nSponsorships\, which include an extensive package of recognition opportunities\, also are available. For sponsorship information\, contact Jeri Adkins\, JAdkins@charlestonareaalliance.org.<br />\n<br />\nWe are unable to invoice for groups with fewer than 10 or issue refunds for cancellations received less than 48 hours prior to the event. Thank you.<br />\n<br />\nIf you are unable to view this e-mail\, please view it at www.AllianceBlog.org.
LOCATION:West Virginia Culture Center 1900 Kanawha Blvd East Charleston\, WV 25305
UID:e.1499.744
SEQUENCE:3
DTSTAMP:20260421T081641Z
URL:https://business.charlestonareaalliance.org/events/details/2015-annual-celebration-02-17-2015-744
END:VEVENT

END:VCALENDAR
