BEGIN:VCALENDAR
VERSION:2.0
PRODID:-//ChamberMaster//Event Calendar 2.0//EN
METHOD:PUBLISH
X-PUBLISHED-TTL:P3D
REFRESH-INTERVAL:P3D
CALSCALE:GREGORIAN
BEGIN:VEVENT
DTSTART:20110525T040000Z
DTEND:20110525T040000Z
X-MICROSOFT-CDO-ALLDAYEVENT:FALSE
SUMMARY:2011 Annual Celebration May 2011 Attendees & Guests
DESCRIPTION:
X-ALT-DESC;FMTTYPE=text/html:
LOCATION:The Clay Center
UID:e.1499.369
SEQUENCE:3
DTSTAMP:20260425T023814Z
URL:https://business.charlestonareaalliance.org/events/details/2011-annual-celebration-may-2011-attendees-guests-05-25-2011-369
END:VEVENT

END:VCALENDAR
